{"text_format":"1","workbook":"xlsx","n_sheets":4,"sheets":["カデット参加申込書（男子）","カデット参加申込書(女子)","道卓用","道卓用２"],"not_rendered":{"charts":0,"images":0,"macros":1,"external_links":0,"defined_names":2,"comments":0,"pivot_tables":0},"unopened":[],"bounds":{"document_bytes":16777216,"sheet_cells":100000,"rows_first":2000,"rows_last":500,"rows_between":2000,"halvings":0,"cell_chars":16384,"cell_head_chars":4096},"cells_cut":0,"cells_raw":0,"read":"whole","date_system":"1900"}

{"sheet":"カデット参加申込書（男子）","index":0,"n_rows":102,"n_cols":14,"rows_kept":102,"cut":false,"hidden":false,"merged":[[34,0,34,12],[36,0,36,12],[37,0,39,1],[71,0,73,1],[72,2,73,2],[39,12,39,13],[38,12,38,13],[37,12,37,13],[0,0,0,12],[3,0,5,1],[2,0,2,12],[3,12,3,13],[4,12,4,13],[5,12,5,13],[77,7,78,7],[68,0,68,12],[85,0,86,0],[79,0,80,0],[79,7,80,7],[81,7,82,7],[83,7,84,7],[85,7,86,7],[83,0,84,0],[70,0,70,12],[77,0,78,0],[81,0,82,0],[73,12,73,13],[71,12,71,13],[72,12,72,13],[93,0,94,0],[93,7,94,7],[95,0,96,0],[95,7,96,7],[87,0,88,0],[87,7,88,7],[89,0,90,0],[89,7,90,7],[91,0,92,0],[91,7,92,7]]}
["北海道卓球選手権大会（カデットの部）"]
[]
["参加申込書"]
["種　目",null,"シングルス",null,"　　　　　　　",null,"　　　　　　　",null,null,null,null,"支部名"]
[null,null,"男子","２０２６年",null,null,null,"月",null,"日",null,"責任者"]
[null,null,"１３才以下",null,null,null,null,null,null,null,null,"電話番号"]
[]
[null,null,null,null,null,null,"　１人　１,４００円 ×",null,"人",{"$f":"1400*H8","v":0},null,"　円"]
[null,"ラ","氏　　　名","フリガナ","所　　属","生年月日","日本卓球協会会員ID",null,"ラ","氏　　　名","フリガナ","所属","生年月日","日本卓球協会会員ID"]
[1,null,null,null,null,null,null,21]
[2,null,null,null,null,null,null,22]
[3,null,null,null,null,null,null,23]
[4,null,null,null,null,null,null,24]
[5,null,null,null,null,null,null,25]
[6,null,null,null,null,null,null,26]
[7,null,null,null,null,null,null,27]
[8,null,null,null,null,null,null,28]
[9,null,null,null,null,null,null,29]
[10,null,null,null,null,null,null,30]
[11,null,null,null,null,null,null,31]
[12,null,null,null,null,null,null,32]
[13,null,null,null,null,null,null,33]
[14,null,null,null,null,null,null,34]
[15,null,null,null,null,null,null,35]
[16,null,null,null,null,null,null,36]
[17,null,null,null,null,null,null,37]
[18,null,null,null,null,null,null,38]
[19,null,null,null,null,null,null,39]
[20,null,null,null,null,null,null,40]
[null,null,null,null,null,null,"９桁の数字",null,null,null,null,null,null,"９桁の数字"]
["　　（注意）",null,"１，種目毎一葉に記入のこと。　　　"]
[null,null,"２，各支部の予選の成績順に必ず記入のこと。"]
[null,null,"３，各種大会のランキングプレイヤーは『ラ』を記入のこと。"]
[null,null,"４，氏名のフリガナは必ず記入下さい。"]
["北海道卓球選手権大会（カデットの部）"]
[]
["参加申込書"]
["種　目",null,"シングルス",null,"　　　　　　　",null,"　　　　　　　",null,null,null,null,"支部名",{"$f":"M4","v":0}]
[null,null,"男子","２０２６年",null,null,{"$f":"G5","v":0},"月",{"$f":"I5","v":0},"日",null,"責任者",{"$f":"M5","v":0}]
[null,null,"１４才以下",null,null,null,null,null,null,null,null,"電話番号",{"$f":"M6","v":0}]
[]
[null,null,null,null,null,null,"　１人　１,４００円 ×",null,"人",{"$f":"1400*H42","v":0},null,"　円"]
[null,"ラ","氏　　　名","フリガナ","所　　属","生年月日","日本卓球協会会員ID",null,"ラ","氏　　　名","フリガナ","所属","生年月日","日本卓球協会会員ID"]
[1,null,null,null,null,null,null,21]
[2,null,null,null,null,null,null,22]
[3,null,null,null,null,null,null,23]
[4,null,null,null,null,null,null,24]
[5,null,null,null,null,null,null,25]
[6,null,null,null,null,null,null,26]
[7,null,null,null,null,null,null,27]
[8,null,null,null,null,null,null,28]
[9,null,null,null,null,null,null,29]
[10,null,null,null,null,null,null,30]
[11,null,null,null,null,null,null,31]
[12,null,null,null,null,null,null,32]
[13,null,null,null,null,null,null,33]
[14,null,null,null,null,null,null,34]
[15,null,null,null,null,null,null,35]
[16,null,null,null,null,null,null,36]
[17,null,null,null,null,null,null,37]
[18,null,null,null,null,null,null,38]
[19,null,null,null,null,null,null,39]
[20,null,null,null,null,null,null,40]
[null,null,null,null,null,null,"９桁の数字",null,null,null,null,null,null,"９桁の数字"]
["　　（注意）",null,"１，種目毎一葉に記入のこと。　　　"]
[null,null,"２，各支部の予選の成績順に必ず記入のこと。"]
[null,null,"３，各種大会のランキングプレイヤーは『ラ』を記入のこと。"]
[null,null,"４，氏名のフリガナは必ず記入下さい。"]
["北海道卓球選手権大会（カデットの部）"]
[]
["参加申込書"]
["種　目",null,"ダ ブ ル ス",null,null,null,null,null,null,null,null,"支部名  ",{"$f":"M38","v":0}]
[null,null,"男子","２０２６年",null,null,{"$f":"G5","v":0},"月",{"$f":"I5","v":0},"日",null,"責任者",{"$f":"M39","v":0}]
[null,null,null,null,null,null,null,null,null,null,null,"電話番号",{"$f":"M40","v":0}]
[]
[null,null,null,null,null,null,"　１人　１,７００円 ×",null,"組",{"$f":"1500*H76","v":0},null,"　円"]
[null,"ラ","氏　　　名","フリガナ","所　　属","生年月日","日本卓球協会会員ID",null,"ラ","氏　　　名","フリガナ","所属","生年月日","日本卓球協会会員ID"]
[1,null,null,null,null,null,null,11]
[]
[2,null,null,null,null,null,null,12]
[]
[3,null,null,null,null,null,null,13]
[]
[4,null,null,null,null,null,null,14]
[]
[5,null,null,null,null,null,null,15]
[]
[6,null,null,null,null,null,null,16]
[]
[7,null,null,null,null,null,null,17]
[]
[8,null,null,null,null,null,null,18]
[]
[9,null,null,null,null,null,null,19]
[]
[10,null,null,null,null,null,null,20]
[]
[null,null,null,null,null,null,"９桁の数字",null,null,null,null,null,null,"９桁の数字"]
["　　（注意）",null,"１，種目毎一葉に記入のこと。　　　"]
[null,null,"２，各支部の予選の成績順に必ず記入のこと。"]
[null,null,"３，各種大会のランキングプレイヤーは『ラ』を記入のこと。"]
[null,null,"４，氏名のフリガナは必ず記入下さい。"]

{"sheet":"カデット参加申込書(女子)","index":1,"n_rows":102,"n_cols":14,"rows_kept":102,"cut":false,"hidden":false,"merged":[[0,0,0,12],[2,0,2,12],[3,0,5,1],[3,12,3,13],[4,12,4,13],[5,12,5,13],[34,0,34,12],[36,0,36,12],[37,0,39,1],[37,12,37,13],[38,12,38,13],[39,12,39,13],[68,0,68,12],[70,0,70,12],[71,0,73,1],[71,12,71,13],[72,2,73,2],[72,12,72,13],[73,12,73,13],[77,0,78,0],[77,7,78,7],[79,0,80,0],[79,7,80,7],[81,0,82,0],[81,7,82,7],[83,0,84,0],[83,7,84,7],[85,0,86,0],[85,7,86,7],[87,0,88,0],[87,7,88,7],[95,0,96,0],[95,7,96,7],[89,0,90,0],[89,7,90,7],[91,0,92,0],[91,7,92,7],[93,0,94,0],[93,7,94,7]]}
["北海道卓球選手権大会（カデットの部）"]
[]
["参加申込書"]
["種　目",null,"シングルス",null,"　　　　　　　",null,"　　　　　　　",null,null,null,null,"支部名"]
[null,null,"女子","２０２６年",null,null,null,"月",null,"日",null,"責任者"]
[null,null,"１３才以下",null,null,null,null,null,null,null,null,"電話番号"]
[]
[null,null,null,null,null,null,"　１人　１,４００円 ×",null,"人",{"$f":"1400*H8","v":0},null,"　円"]
[null,"ラ","氏　　　名","フリガナ","所　　属","生年月日","日本卓球協会会員ID",null,"ラ","氏　　　名","フリガナ","所属","生年月日","日本卓球協会会員ID"]
[1,null,null,null,null,null,null,21]
[2,null,null,null,null,null,null,22]
[3,null,null,null,null,null,null,23]
[4,null,null,null,null,null,null,24]
[5,null,null,null,null,null,null,25]
[6,null,null,null,null,null,null,26]
[7,null,null,null,null,null,null,27]
[8,null,null,null,null,null,null,28]
[9,null,null,null,null,null,null,29]
[10,null,null,null,null,null,null,30]
[11,null,null,null,null,null,null,31]
[12,null,null,null,null,null,null,32]
[13,null,null,null,null,null,null,33]
[14,null,null,null,null,null,null,34]
[15,null,null,null,null,null,null,35]
[16,null,null,null,null,null,null,36]
[17,null,null,null,null,null,null,37]
[18,null,null,null,null,null,null,38]
[19,null,null,null,null,null,null,39]
[20,null,null,null,null,null,null,40]
[null,null,null,null,null,null,"９桁の数字",null,null,null,null,null,null,"９桁の数字"]
["　　（注意）",null,"１，種目毎一葉に記入のこと。　　　"]
[null,null,"２，各支部の予選の成績順に必ず記入のこと。"]
[null,null,"３，各種大会のランキングプレイヤーは『ラ』を記入のこと。"]
[null,null,"４，氏名のフリガナは必ず記入下さい。"]
["北海道卓球選手権大会（カデットの部）"]
[]
["参加申込書"]
["種　目",null,"シングルス",null,"　　　　　　　",null,"　　　　　　　",null,null,null,null,"支部名",{"$f":"M4","v":0}]
[null,null,"女子","２０２６年",null,null,{"$f":"G5","v":0},"月",{"$f":"I5","v":0},"日",null,"責任者",{"$f":"M5","v":0}]
[null,null,"１４才以下",null,null,null,null,null,null,null,null,"電話番号",{"$f":"M6","v":0}]
[]
[null,null,null,null,null,null,"　１人　１,４００円 ×",null,"人",{"$f":"1400*H42","v":0},null,"　円"]
[null,"ラ","氏　　　名","フリガナ","所　　属","生年月日","日本卓球協会会員ID",null,"ラ","氏　　　名","フリガナ","所属","生年月日","日本卓球協会会員ID"]
[1,null,null,null,null,null,null,21]
[2,null,null,null,null,null,null,22]
[3,null,null,null,null,null,null,23]
[4,null,null,null,null,null,null,24]
[5,null,null,null,null,null,null,25]
[6,null,null,null,null,null,null,26]
[7,null,null,null,null,null,null,27]
[8,null,null,null,null,null,null,28]
[9,null,null,null,null,null,null,29]
[10,null,null,null,null,null,null,30]
[11,null,null,null,null,null,null,31]
[12,null,null,null,null,null,null,32]
[13,null,null,null,null,null,null,33]
[14,null,null,null,null,null,null,34]
[15,null,null,null,null,null,null,35]
[16,null,null,null,null,null,null,36]
[17,null,null,null,null,null,null,37]
[18,null,null,null,null,null,null,38]
[19,null,null,null,null,null,null,39]
[20,null,null,null,null,null,null,40]
[null,null,null,null,null,null,"９桁の数字",null,null,null,null,null,null,"９桁の数字"]
["　　（注意）",null,"１，種目毎一葉に記入のこと。　　　"]
[null,null,"２，各支部の予選の成績順に必ず記入のこと。"]
[null,null,"３，各種大会のランキングプレイヤーは『ラ』を記入のこと。"]
[null,null,"４，氏名のフリガナは必ず記入下さい。"]
["北海道卓球選手権大会（カデットの部）"]
[]
["参加申込書"]
["種　目",null,"ダ ブ ル ス",null,null,null,null,null,null,null,null,"支部名  ",{"$f":"M38","v":0}]
[null,null,"女子","２０２６年",null,null,{"$f":"G5","v":0},"月",{"$f":"I5","v":0},"日",null,"責任者",{"$f":"M39","v":0}]
[null,null,null,null,null,null,null,null,null,null,null,"電話番号",{"$f":"M40","v":0}]
[]
[null,null,null,null,null,null,"　１人　１,７００円 ×",null,"組",{"$f":"1500*H76","v":0},null,"　円"]
[null,"ラ","氏　　　名","フリガナ","所　　属","生年月日","日本卓球協会会員ID",null,"ラ","氏　　　名","フリガナ","所属","生年月日","日本卓球協会会員ID"]
[1,null,null,null,null,null,null,11]
[]
[2,null,null,null,null,null,null,12]
[]
[3,null,null,null,null,null,null,13]
[]
[4,null,null,null,null,null,null,14]
[]
[5,null,null,null,null,null,null,15]
[]
[6,null,null,null,null,null,null,16]
[]
[7,null,null,null,null,null,null,17]
[]
[8,null,null,null,null,null,null,18]
[]
[9,null,null,null,null,null,null,19]
[]
[10,null,null,null,null,null,null,20]
[]
[null,null,null,null,null,null,"９桁の数字",null,null,null,null,null,null,"９桁の数字"]
["　　（注意）",null,"１，種目毎一葉に記入のこと。　　　"]
[null,null,"２，各支部の予選の成績順に必ず記入のこと。"]
[null,null,"３，各種大会のランキングプレイヤーは『ラ』を記入のこと。"]
[null,null,"４，氏名のフリガナは必ず記入下さい。"]

{"sheet":"道卓用","index":2,"n_rows":42,"n_cols":19,"rows_kept":42,"cut":false,"hidden":false,"merged":[]}
[null,"男子13歳",null,null,"男子14歳",null,null,"女子13歳",null,null,"女子14歳",null,null,"男子ダブルス",null,null,"女子ダブルス"]
[null,"氏名","所属","支部","氏名","所属","支部","氏名","所属","支部","氏名","所属","支部","氏名","所属","支部","氏名","所属","支部"]
[1,{"$f":"IF('カデット参加申込書（男子）'!C10=\"\",\"\",'カデット参加申込書（男子）'!C10)","v":""},{"$f":"IF('カデット参加申込書（男子）'!E10=\"\",\"\",'カデット参加申込書（男子）'!E10)","v":""},{"$f":"IF(B3=\"\",\"\",'カデット参加申込書（男子）'!$M$4)","v":""},{"$f":"IF('カデット参加申込書（男子）'!C44=\"\",\"\",'カデット参加申込書（男子）'!C44)","v":""},{"$f":"IF('カデット参加申込書（男子）'!E44=\"\",\"\",'カデット参加申込書（男子）'!E44)","v":""},{"$f":"IF(E3=\"\",\"\",'カデット参加申込書（男子）'!$M$4)","v":""},{"$f":"IF('カデット参加申込書(女子)'!C10=\"\",\"\",'カデット参加申込書(女子)'!C10)","v":""},{"$f":"IF('カデット参加申込書(女子)'!E10=\"\",\"\",'カデット参加申込書(女子)'!E10)","v":""},{"$f":"IF(H3=\"\",\"\",'カデット参加申込書(女子)'!$M$4)","v":""},{"$f":"IF('カデット参加申込書(女子)'!C44=\"\",\"\",'カデット参加申込書(女子)'!C44)","v":""},{"$f":"IF('カデット参加申込書(女子)'!E44=\"\",\"\",'カデット参加申込書(女子)'!E44)","v":""},{"$f":"IF(K3=\"\",\"\",'カデット参加申込書(女子)'!$M$4)","v":""},{"$f":"IF(道卓用２!D3=\"\",\"\",道卓用２!D3)","v":""},{"$f":"IF(道卓用２!E3=\"\",\"\",道卓用２!E3)","v":""},{"$f":"IF(N3=\"\",\"\",'カデット参加申込書(女子)'!$M$4)","v":""},{"$f":"IF(道卓用２!F3=\"\",\"\",道卓用２!F3)","v":""},{"$f":"IF(道卓用２!G3=\"\",\"\",道卓用２!G3)","v":""},{"$f":"IF(Q3=\"\",\"\",'カデット参加申込書(女子)'!$M$4)","v":""}]
[2,{"$f":"IF('カデット参加申込書（男子）'!C11=\"\",\"\",'カデット参加申込書（男子）'!C11)","v":""},{"$f":"IF('カデット参加申込書（男子）'!E11=\"\",\"\",'カデット参加申込書（男子）'!E11)","v":""},{"$f":"IF(B4=\"\",\"\",'カデット参加申込書（男子）'!$M$4)","v":""},{"$f":"IF('カデット参加申込書（男子）'!C45=\"\",\"\",'カデット参加申込書（男子）'!C45)","v":""},{"$f":"IF('カデット参加申込書（男子）'!E45=\"\",\"\",'カデット参加申込書（男子）'!E45)","v":""},{"$f":"IF(E4=\"\",\"\",'カデット参加申込書（男子）'!$M$4)","v":""},{"$f":"IF('カデット参加申込書(女子)'!C11=\"\",\"\",'カデット参加申込書(女子)'!C11)","v":""},{"$f":"IF('カデット参加申込書(女子)'!E11=\"\",\"\",'カデット参加申込書(女子)'!E11)","v":""},{"$f":"IF(H4=\"\",\"\",'カデット参加申込書(女子)'!$M$4)","v":""},{"$f":"IF('カデット参加申込書(女子)'!C45=\"\",\"\",'カデット参加申込書(女子)'!C45)","v":""},{"$f":"IF('カデット参加申込書(女子)'!E45=\"\",\"\",'カデット参加申込書(女子)'!E45)","v":""},{"$f":"IF(K4=\"\",\"\",'カデット参加申込書(女子)'!$M$4)","v":""},{"$f":"IF(道卓用２!D4=\"\",\"\",道卓用２!D4)","v":""},{"$f":"IF(道卓用２!E4=\"\",\"\",道卓用２!E4)","v":""},{"$f":"IF(N4=\"\",\"\",'カデット参加申込書(女子)'!$M$4)","v":""},{"$f":"IF(道卓用２!F4=\"\",\"\",道卓用２!F4)","v":""},{"$f":"IF(道卓用２!G4=\"\",\"\",道卓用２!G4)","v":""},{"$f":"IF(Q4=\"\",\"\",'カデット参加申込書(女子)'!$M$4)","v":""}]
[3,{"$f":"IF('カデット参加申込書（男子）'!C12=\"\",\"\",'カデット参加申込書（男子）'!C12)","v":""},{"$f":"IF('カデット参加申込書（男子）'!E12=\"\",\"\",'カデット参加申込書（男子）'!E12)","v":""},{"$f":"IF(B5=\"\",\"\",'カデット参加申込書（男子）'!$M$4)","v":""},{"$f":"IF('カデット参加申込書（男子）'!C46=\"\",\"\",'カデット参加申込書（男子）'!C46)","v":""},{"$f":"IF('カデット参加申込書（男子）'!E46=\"\",\"\",'カデット参加申込書（男子）'!E46)","v":""},{"$f":"IF(E5=\"\",\"\",'カデット参加申込書（男子）'!$M$4)","v":""},{"$f":"IF('カデット参加申込書(女子)'!C12=\"\",\"\",'カデット参加申込書(女子)'!C12)","v":""},{"$f":"IF('カデット参加申込書(女子)'!E12=\"\",\"\",'カデット参加申込書(女子)'!E12)","v":""},{"$f":"IF(H5=\"\",\"\",'カデット参加申込書(女子)'!$M$4)","v":""},{"$f":"IF('カデット参加申込書(女子)'!C46=\"\",\"\",'カデット参加申込書(女子)'!C46)","v":""},{"$f":"IF('カデット参加申込書(女子)'!E46=\"\",\"\",'カデット参加申込書(女子)'!E46)","v":""},{"$f":"IF(K5=\"\",\"\",'カデット参加申込書(女子)'!$M$4)","v":""},{"$f":"IF(道卓用２!D5=\"\",\"\",道卓用２!D5)","v":""},{"$f":"IF(道卓用２!E5=\"\",\"\",道卓用２!E5)","v":""},{"$f":"IF(N5=\"\",\"\",'カデット参加申込書(女子)'!$M$4)","v":""},{"$f":"IF(道卓用２!F5=\"\",\"\",道卓用２!F5)","v":""},{"$f":"IF(道卓用２!G5=\"\",\"\",道卓用２!G5)","v":""},{"$f":"IF(Q5=\"\",\"\",'カデット参加申込書(女子)'!$M$4)","v":""}]
[4,{"$f":"IF('カデット参加申込書（男子）'!C13=\"\",\"\",'カデット参加申込書（男子）'!C13)","v":""},{"$f":"IF('カデット参加申込書（男子）'!E13=\"\",\"\",'カデット参加申込書（男子）'!E13)","v":""},{"$f":"IF(B6=\"\",\"\",'カデット参加申込書（男子）'!$M$4)","v":""},{"$f":"IF('カデット参加申込書（男子）'!C47=\"\",\"\",'カデット参加申込書（男子）'!C47)","v":""},{"$f":"IF('カデット参加申込書（男子）'!E47=\"\",\"\",'カデット参加申込書（男子）'!E47)","v":""},{"$f":"IF(E6=\"\",\"\",'カデット参加申込書（男子）'!$M$4)","v":""},{"$f":"IF('カデット参加申込書(女子)'!C13=\"\",\"\",'カデット参加申込書(女子)'!C13)","v":""},{"$f":"IF('カデット参加申込書(女子)'!E13=\"\",\"\",'カデット参加申込書(女子)'!E13)","v":""},{"$f":"IF(H6=\"\",\"\",'カデット参加申込書(女子)'!$M$4)","v":""},{"$f":"IF('カデット参加申込書(女子)'!C47=\"\",\"\",'カデット参加申込書(女子)'!C47)","v":""},{"$f":"IF('カデット参加申込書(女子)'!E47=\"\",\"\",'カデット参加申込書(女子)'!E47)","v":""},{"$f":"IF(K6=\"\",\"\",'カデット参加申込書(女子)'!$M$4)","v":""},{"$f":"IF(道卓用２!D6=\"\",\"\",道卓用２!D6)","v":""},{"$f":"IF(道卓用２!E6=\"\",\"\",道卓用２!E6)","v":""},{"$f":"IF(N6=\"\",\"\",'カデット参加申込書(女子)'!$M$4)","v":""},{"$f":"IF(道卓用２!F6=\"\",\"\",道卓用２!F6)","v":""},{"$f":"IF(道卓用２!G6=\"\",\"\",道卓用２!G6)","v":""},{"$f":"IF(Q6=\"\",\"\",'カデット参加申込書(女子)'!$M$4)","v":""}]
[5,{"$f":"IF('カデット参加申込書（男子）'!C14=\"\",\"\",'カデット参加申込書（男子）'!C14)","v":""},{"$f":"IF('カデット参加申込書（男子）'!E14=\"\",\"\",'カデット参加申込書（男子）'!E14)","v":""},{"$f":"IF(B7=\"\",\"\",'カデット参加申込書（男子）'!$M$4)","v":""},{"$f":"IF('カデット参加申込書（男子）'!C48=\"\",\"\",'カデット参加申込書（男子）'!C48)","v":""},{"$f":"IF('カデット参加申込書（男子）'!E48=\"\",\"\",'カデット参加申込書（男子）'!E48)","v":""},{"$f":"IF(E7=\"\",\"\",'カデット参加申込書（男子）'!$M$4)","v":""},{"$f":"IF('カデット参加申込書(女子)'!C14=\"\",\"\",'カデット参加申込書(女子)'!C14)","v":""},{"$f":"IF('カデット参加申込書(女子)'!E14=\"\",\"\",'カデット参加申込書(女子)'!E14)","v":""},{"$f":"IF(H7=\"\",\"\",'カデット参加申込書(女子)'!$M$4)","v":""},{"$f":"IF('カデット参加申込書(女子)'!C48=\"\",\"\",'カデット参加申込書(女子)'!C48)","v":""},{"$f":"IF('カデット参加申込書(女子)'!E48=\"\",\"\",'カデット参加申込書(女子)'!E48)","v":""},{"$f":"IF(K7=\"\",\"\",'カデット参加申込書(女子)'!$M$4)","v":""},{"$f":"IF(道卓用２!D7=\"\",\"\",道卓用２!D7)","v":""},{"$f":"IF(道卓用２!E7=\"\",\"\",道卓用２!E7)","v":""},{"$f":"IF(N7=\"\",\"\",'カデット参加申込書(女子)'!$M$4)","v":""},{"$f":"IF(道卓用２!F7=\"\",\"\",道卓用２!F7)","v":""},{"$f":"IF(道卓用２!G7=\"\",\"\",道卓用２!G7)","v":""},{"$f":"IF(Q7=\"\",\"\",'カデット参加申込書(女子)'!$M$4)","v":""}]
[6,{"$f":"IF('カデット参加申込書（男子）'!C15=\"\",\"\",'カデット参加申込書（男子）'!C15)","v":""},{"$f":"IF('カデット参加申込書（男子）'!E15=\"\",\"\",'カデット参加申込書（男子）'!E15)","v":""},{"$f":"IF(B8=\"\",\"\",'カデット参加申込書（男子）'!$M$4)","v":""},{"$f":"IF('カデット参加申込書（男子）'!C49=\"\",\"\",'カデット参加申込書（男子）'!C49)","v":""},{"$f":"IF('カデット参加申込書（男子）'!E49=\"\",\"\",'カデット参加申込書（男子）'!E49)","v":""},{"$f":"IF(E8=\"\",\"\",'カデット参加申込書（男子）'!$M$4)","v":""},{"$f":"IF('カデット参加申込書(女子)'!C15=\"\",\"\",'カデット参加申込書(女子)'!C15)","v":""},{"$f":"IF('カデット参加申込書(女子)'!E15=\"\",\"\",'カデット参加申込書(女子)'!E15)","v":""},{"$f":"IF(H8=\"\",\"\",'カデット参加申込書(女子)'!$M$4)","v":""},{"$f":"IF('カデット参加申込書(女子)'!C49=\"\",\"\",'カデット参加申込書(女子)'!C49)","v":""},{"$f":"IF('カデット参加申込書(女子)'!E49=\"\",\"\",'カデット参加申込書(女子)'!E49)","v":""},{"$f":"IF(K8=\"\",\"\",'カデット参加申込書(女子)'!$M$4)","v":""},{"$f":"IF(道卓用２!D8=\"\",\"\",道卓用２!D8)","v":""},{"$f":"IF(道卓用２!E8=\"\",\"\",道卓用２!E8)","v":""},{"$f":"IF(N8=\"\",\"\",'カデット参加申込書(女子)'!$M$4)","v":""},{"$f":"IF(道卓用２!F8=\"\",\"\",道卓用２!F8)","v":""},{"$f":"IF(道卓用２!G8=\"\",\"\",道卓用２!G8)","v":""},{"$f":"IF(Q8=\"\",\"\",'カデット参加申込書(女子)'!$M$4)","v":""}]
[7,{"$f":"IF('カデット参加申込書（男子）'!C16=\"\",\"\",'カデット参加申込書（男子）'!C16)","v":""},{"$f":"IF('カデット参加申込書（男子）'!E16=\"\",\"\",'カデット参加申込書（男子）'!E16)","v":""},{"$f":"IF(B9=\"\",\"\",'カデット参加申込書（男子）'!$M$4)","v":""},{"$f":"IF('カデット参加申込書（男子）'!C50=\"\",\"\",'カデット参加申込書（男子）'!C50)","v":""},{"$f":"IF('カデット参加申込書（男子）'!E50=\"\",\"\",'カデット参加申込書（男子）'!E50)","v":""},{"$f":"IF(E9=\"\",\"\",'カデット参加申込書（男子）'!$M$4)","v":""},{"$f":"IF('カデット参加申込書(女子)'!C16=\"\",\"\",'カデット参加申込書(女子)'!C16)","v":""},{"$f":"IF('カデット参加申込書(女子)'!E16=\"\",\"\",'カデット参加申込書(女子)'!E16)","v":""},{"$f":"IF(H9=\"\",\"\",'カデット参加申込書(女子)'!$M$4)","v":""},{"$f":"IF('カデット参加申込書(女子)'!C50=\"\",\"\",'カデット参加申込書(女子)'!C50)","v":""},{"$f":"IF('カデット参加申込書(女子)'!E50=\"\",\"\",'カデット参加申込書(女子)'!E50)","v":""},{"$f":"IF(K9=\"\",\"\",'カデット参加申込書(女子)'!$M$4)","v":""},{"$f":"IF(道卓用２!D9=\"\",\"\",道卓用２!D9)","v":""},{"$f":"IF(道卓用２!E9=\"\",\"\",道卓用２!E9)","v":""},{"$f":"IF(N9=\"\",\"\",'カデット参加申込書(女子)'!$M$4)","v":""},{"$f":"IF(道卓用２!F9=\"\",\"\",道卓用２!F9)","v":""},{"$f":"IF(道卓用２!G9=\"\",\"\",道卓用２!G9)","v":""},{"$f":"IF(Q9=\"\",\"\",'カデット参加申込書(女子)'!$M$4)","v":""}]
[8,{"$f":"IF('カデット参加申込書（男子）'!C17=\"\",\"\",'カデット参加申込書（男子）'!C17)","v":""},{"$f":"IF('カデット参加申込書（男子）'!E17=\"\",\"\",'カデット参加申込書（男子）'!E17)","v":""},{"$f":"IF(B10=\"\",\"\",'カデット参加申込書（男子）'!$M$4)","v":""},{"$f":"IF('カデット参加申込書（男子）'!C51=\"\",\"\",'カデット参加申込書（男子）'!C51)","v":""},{"$f":"IF('カデット参加申込書（男子）'!E51=\"\",\"\",'カデット参加申込書（男子）'!E51)","v":""},{"$f":"IF(E10=\"\",\"\",'カデット参加申込書（男子）'!$M$4)","v":""},{"$f":"IF('カデット参加申込書(女子)'!C17=\"\",\"\",'カデット参加申込書(女子)'!C17)","v":""},{"$f":"IF('カデット参加申込書(女子)'!E17=\"\",\"\",'カデット参加申込書(女子)'!E17)","v":""},{"$f":"IF(H10=\"\",\"\",'カデット参加申込書(女子)'!$M$4)","v":""},{"$f":"IF('カデット参加申込書(女子)'!C51=\"\",\"\",'カデット参加申込書(女子)'!C51)","v":""},{"$f":"IF('カデット参加申込書(女子)'!E51=\"\",\"\",'カデット参加申込書(女子)'!E51)","v":""},{"$f":"IF(K10=\"\",\"\",'カデット参加申込書(女子)'!$M$4)","v":""},{"$f":"IF(道卓用２!D10=\"\",\"\",道卓用２!D10)","v":""},{"$f":"IF(道卓用２!E10=\"\",\"\",道卓用２!E10)","v":""},{"$f":"IF(N10=\"\",\"\",'カデット参加申込書(女子)'!$M$4)","v":""},{"$f":"IF(道卓用２!F10=\"\",\"\",道卓用２!F10)","v":""},{"$f":"IF(道卓用２!G10=\"\",\"\",道卓用２!G10)","v":""},{"$f":"IF(Q10=\"\",\"\",'カデット参加申込書(女子)'!$M$4)","v":""}]
[9,{"$f":"IF('カデット参加申込書（男子）'!C18=\"\",\"\",'カデット参加申込書（男子）'!C18)","v":""},{"$f":"IF('カデット参加申込書（男子）'!E18=\"\",\"\",'カデット参加申込書（男子）'!E18)","v":""},{"$f":"IF(B11=\"\",\"\",'カデット参加申込書（男子）'!$M$4)","v":""},{"$f":"IF('カデット参加申込書（男子）'!C52=\"\",\"\",'カデット参加申込書（男子）'!C52)","v":""},{"$f":"IF('カデット参加申込書（男子）'!E52=\"\",\"\",'カデット参加申込書（男子）'!E52)","v":""},{"$f":"IF(E11=\"\",\"\",'カデット参加申込書（男子）'!$M$4)","v":""},{"$f":"IF('カデット参加申込書(女子)'!C18=\"\",\"\",'カデット参加申込書(女子)'!C18)","v":""},{"$f":"IF('カデット参加申込書(女子)'!E18=\"\",\"\",'カデット参加申込書(女子)'!E18)","v":""},{"$f":"IF(H11=\"\",\"\",'カデット参加申込書(女子)'!$M$4)","v":""},{"$f":"IF('カデット参加申込書(女子)'!C52=\"\",\"\",'カデット参加申込書(女子)'!C52)","v":""},{"$f":"IF('カデット参加申込書(女子)'!E52=\"\",\"\",'カデット参加申込書(女子)'!E52)","v":""},{"$f":"IF(K11=\"\",\"\",'カデット参加申込書(女子)'!$M$4)","v":""},{"$f":"IF(道卓用２!D11=\"\",\"\",道卓用２!D11)","v":""},{"$f":"IF(道卓用２!E11=\"\",\"\",道卓用２!E11)","v":""},{"$f":"IF(N11=\"\",\"\",'カデット参加申込書(女子)'!$M$4)","v":""},{"$f":"IF(道卓用２!F11=\"\",\"\",道卓用２!F11)","v":""},{"$f":"IF(道卓用２!G11=\"\",\"\",道卓用２!G11)","v":""},{"$f":"IF(Q11=\"\",\"\",'カデット参加申込書(女子)'!$M$4)","v":""}]
[10,{"$f":"IF('カデット参加申込書（男子）'!C19=\"\",\"\",'カデット参加申込書（男子）'!C19)","v":""},{"$f":"IF('カデット参加申込書（男子）'!E19=\"\",\"\",'カデット参加申込書（男子）'!E19)","v":""},{"$f":"IF(B12=\"\",\"\",'カデット参加申込書（男子）'!$M$4)","v":""},{"$f":"IF('カデット参加申込書（男子）'!C53=\"\",\"\",'カデット参加申込書（男子）'!C53)","v":""},{"$f":"IF('カデット参加申込書（男子）'!E53=\"\",\"\",'カデット参加申込書（男子）'!E53)","v":""},{"$f":"IF(E12=\"\",\"\",'カデット参加申込書（男子）'!$M$4)","v":""},{"$f":"IF('カデット参加申込書(女子)'!C19=\"\",\"\",'カデット参加申込書(女子)'!C19)","v":""},{"$f":"IF('カデット参加申込書(女子)'!E19=\"\",\"\",'カデット参加申込書(女子)'!E19)","v":""},{"$f":"IF(H12=\"\",\"\",'カデット参加申込書(女子)'!$M$4)","v":""},{"$f":"IF('カデット参加申込書(女子)'!C53=\"\",\"\",'カデット参加申込書(女子)'!C53)","v":""},{"$f":"IF('カデット参加申込書(女子)'!E53=\"\",\"\",'カデット参加申込書(女子)'!E53)","v":""},{"$f":"IF(K12=\"\",\"\",'カデット参加申込書(女子)'!$M$4)","v":""},{"$f":"IF(道卓用２!D12=\"\",\"\",道卓用２!D12)","v":""},{"$f":"IF(道卓用２!E12=\"\",\"\",道卓用２!E12)","v":""},{"$f":"IF(N12=\"\",\"\",'カデット参加申込書(女子)'!$M$4)","v":""},{"$f":"IF(道卓用２!F12=\"\",\"\",道卓用２!F12)","v":""},{"$f":"IF(道卓用２!G12=\"\",\"\",道卓用２!G12)","v":""},{"$f":"IF(Q12=\"\",\"\",'カデット参加申込書(女子)'!$M$4)","v":""}]
[11,{"$f":"IF('カデット参加申込書（男子）'!C20=\"\",\"\",'カデット参加申込書（男子）'!C20)","v":""},{"$f":"IF('カデット参加申込書（男子）'!E20=\"\",\"\",'カデット参加申込書（男子）'!E20)","v":""},{"$f":"IF(B13=\"\",\"\",'カデット参加申込書（男子）'!$M$4)","v":""},{"$f":"IF('カデット参加申込書（男子）'!C54=\"\",\"\",'カデット参加申込書（男子）'!C54)","v":""},{"$f":"IF('カデット参加申込書（男子）'!E54=\"\",\"\",'カデット参加申込書（男子）'!E54)","v":""},{"$f":"IF(E13=\"\",\"\",'カデット参加申込書（男子）'!$M$4)","v":""},{"$f":"IF('カデット参加申込書(女子)'!C20=\"\",\"\",'カデット参加申込書(女子)'!C20)","v":""},{"$f":"IF('カデット参加申込書(女子)'!E20=\"\",\"\",'カデット参加申込書(女子)'!E20)","v":""},{"$f":"IF(H13=\"\",\"\",'カデット参加申込書(女子)'!$M$4)","v":""},{"$f":"IF('カデット参加申込書(女子)'!C54=\"\",\"\",'カデット参加申込書(女子)'!C54)","v":""},{"$f":"IF('カデット参加申込書(女子)'!E54=\"\",\"\",'カデット参加申込書(女子)'!E54)","v":""},{"$f":"IF(K13=\"\",\"\",'カデット参加申込書(女子)'!$M$4)","v":""},{"$f":"IF(道卓用２!D13=\"\",\"\",道卓用２!D13)","v":""},{"$f":"IF(道卓用２!E13=\"\",\"\",道卓用２!E13)","v":""},{"$f":"IF(N13=\"\",\"\",'カデット参加申込書(女子)'!$M$4)","v":""},{"$f":"IF(道卓用２!F13=\"\",\"\",道卓用２!F13)","v":""},{"$f":"IF(道卓用２!G13=\"\",\"\",道卓用２!G13)","v":""},{"$f":"IF(Q13=\"\",\"\",'カデット参加申込書(女子)'!$M$4)","v":""}]
[12,{"$f":"IF('カデット参加申込書（男子）'!C21=\"\",\"\",'カデット参加申込書（男子）'!C21)","v":""},{"$f":"IF('カデット参加申込書（男子）'!E21=\"\",\"\",'カデット参加申込書（男子）'!E21)","v":""},{"$f":"IF(B14=\"\",\"\",'カデット参加申込書（男子）'!$M$4)","v":""},{"$f":"IF('カデット参加申込書（男子）'!C55=\"\",\"\",'カデット参加申込書（男子）'!C55)","v":""},{"$f":"IF('カデット参加申込書（男子）'!E55=\"\",\"\",'カデット参加申込書（男子）'!E55)","v":""},{"$f":"IF(E14=\"\",\"\",'カデット参加申込書（男子）'!$M$4)","v":""},{"$f":"IF('カデット参加申込書(女子)'!C21=\"\",\"\",'カデット参加申込書(女子)'!C21)","v":""},{"$f":"IF('カデット参加申込書(女子)'!E21=\"\",\"\",'カデット参加申込書(女子)'!E21)","v":""},{"$f":"IF(H14=\"\",\"\",'カデット参加申込書(女子)'!$M$4)","v":""},{"$f":"IF('カデット参加申込書(女子)'!C55=\"\",\"\",'カデット参加申込書(女子)'!C55)","v":""},{"$f":"IF('カデット参加申込書(女子)'!E55=\"\",\"\",'カデット参加申込書(女子)'!E55)","v":""},{"$f":"IF(K14=\"\",\"\",'カデット参加申込書(女子)'!$M$4)","v":""},{"$f":"IF(道卓用２!D14=\"\",\"\",道卓用２!D14)","v":""},{"$f":"IF(道卓用２!E14=\"\",\"\",道卓用２!E14)","v":""},{"$f":"IF(N14=\"\",\"\",'カデット参加申込書(女子)'!$M$4)","v":""},{"$f":"IF(道卓用２!F14=\"\",\"\",道卓用２!F14)","v":""},{"$f":"IF(道卓用２!G14=\"\",\"\",道卓用２!G14)","v":""},{"$f":"IF(Q14=\"\",\"\",'カデット参加申込書(女子)'!$M$4)","v":""}]
[13,{"$f":"IF('カデット参加申込書（男子）'!C22=\"\",\"\",'カデット参加申込書（男子）'!C22)","v":""},{"$f":"IF('カデット参加申込書（男子）'!E22=\"\",\"\",'カデット参加申込書（男子）'!E22)","v":""},{"$f":"IF(B15=\"\",\"\",'カデット参加申込書（男子）'!$M$4)","v":""},{"$f":"IF('カデット参加申込書（男子）'!C56=\"\",\"\",'カデット参加申込書（男子）'!C56)","v":""},{"$f":"IF('カデット参加申込書（男子）'!E56=\"\",\"\",'カデット参加申込書（男子）'!E56)","v":""},{"$f":"IF(E15=\"\",\"\",'カデット参加申込書（男子）'!$M$4)","v":""},{"$f":"IF('カデット参加申込書(女子)'!C22=\"\",\"\",'カデット参加申込書(女子)'!C22)","v":""},{"$f":"IF('カデット参加申込書(女子)'!E22=\"\",\"\",'カデット参加申込書(女子)'!E22)","v":""},{"$f":"IF(H15=\"\",\"\",'カデット参加申込書(女子)'!$M$4)","v":""},{"$f":"IF('カデット参加申込書(女子)'!C56=\"\",\"\",'カデット参加申込書(女子)'!C56)","v":""},{"$f":"IF('カデット参加申込書(女子)'!E56=\"\",\"\",'カデット参加申込書(女子)'!E56)","v":""},{"$f":"IF(K15=\"\",\"\",'カデット参加申込書(女子)'!$M$4)","v":""},{"$f":"IF(道卓用２!D15=\"\",\"\",道卓用２!D15)","v":""},{"$f":"IF(道卓用２!E15=\"\",\"\",道卓用２!E15)","v":""},{"$f":"IF(N15=\"\",\"\",'カデット参加申込書(女子)'!$M$4)","v":""},{"$f":"IF(道卓用２!F15=\"\",\"\",道卓用２!F15)","v":""},{"$f":"IF(道卓用２!G15=\"\",\"\",道卓用２!G15)","v":""},{"$f":"IF(Q15=\"\",\"\",'カデット参加申込書(女子)'!$M$4)","v":""}]
[14,{"$f":"IF('カデット参加申込書（男子）'!C23=\"\",\"\",'カデット参加申込書（男子）'!C23)","v":""},{"$f":"IF('カデット参加申込書（男子）'!E23=\"\",\"\",'カデット参加申込書（男子）'!E23)","v":""},{"$f":"IF(B16=\"\",\"\",'カデット参加申込書（男子）'!$M$4)","v":""},{"$f":"IF('カデット参加申込書（男子）'!C57=\"\",\"\",'カデット参加申込書（男子）'!C57)","v":""},{"$f":"IF('カデット参加申込書（男子）'!E57=\"\",\"\",'カデット参加申込書（男子）'!E57)","v":""},{"$f":"IF(E16=\"\",\"\",'カデット参加申込書（男子）'!$M$4)","v":""},{"$f":"IF('カデット参加申込書(女子)'!C23=\"\",\"\",'カデット参加申込書(女子)'!C23)","v":""},{"$f":"IF('カデット参加申込書(女子)'!E23=\"\",\"\",'カデット参加申込書(女子)'!E23)","v":""},{"$f":"IF(H16=\"\",\"\",'カデット参加申込書(女子)'!$M$4)","v":""},{"$f":"IF('カデット参加申込書(女子)'!C57=\"\",\"\",'カデット参加申込書(女子)'!C57)","v":""},{"$f":"IF('カデット参加申込書(女子)'!E57=\"\",\"\",'カデット参加申込書(女子)'!E57)","v":""},{"$f":"IF(K16=\"\",\"\",'カデット参加申込書(女子)'!$M$4)","v":""},{"$f":"IF(道卓用２!D16=\"\",\"\",道卓用２!D16)","v":""},{"$f":"IF(道卓用２!E16=\"\",\"\",道卓用２!E16)","v":""},{"$f":"IF(N16=\"\",\"\",'カデット参加申込書(女子)'!$M$4)","v":""},{"$f":"IF(道卓用２!F16=\"\",\"\",道卓用２!F16)","v":""},{"$f":"IF(道卓用２!G16=\"\",\"\",道卓用２!G16)","v":""},{"$f":"IF(Q16=\"\",\"\",'カデット参加申込書(女子)'!$M$4)","v":""}]
[15,{"$f":"IF('カデット参加申込書（男子）'!C24=\"\",\"\",'カデット参加申込書（男子）'!C24)","v":""},{"$f":"IF('カデット参加申込書（男子）'!E24=\"\",\"\",'カデット参加申込書（男子）'!E24)","v":""},{"$f":"IF(B17=\"\",\"\",'カデット参加申込書（男子）'!$M$4)","v":""},{"$f":"IF('カデット参加申込書（男子）'!C58=\"\",\"\",'カデット参加申込書（男子）'!C58)","v":""},{"$f":"IF('カデット参加申込書（男子）'!E58=\"\",\"\",'カデット参加申込書（男子）'!E58)","v":""},{"$f":"IF(E17=\"\",\"\",'カデット参加申込書（男子）'!$M$4)","v":""},{"$f":"IF('カデット参加申込書(女子)'!C24=\"\",\"\",'カデット参加申込書(女子)'!C24)","v":""},{"$f":"IF('カデット参加申込書(女子)'!E24=\"\",\"\",'カデット参加申込書(女子)'!E24)","v":""},{"$f":"IF(H17=\"\",\"\",'カデット参加申込書(女子)'!$M$4)","v":""},{"$f":"IF('カデット参加申込書(女子)'!C58=\"\",\"\",'カデット参加申込書(女子)'!C58)","v":""},{"$f":"IF('カデット参加申込書(女子)'!E58=\"\",\"\",'カデット参加申込書(女子)'!E58)","v":""},{"$f":"IF(K17=\"\",\"\",'カデット参加申込書(女子)'!$M$4)","v":""},{"$f":"IF(道卓用２!D17=\"\",\"\",道卓用２!D17)","v":""},{"$f":"IF(道卓用２!E17=\"\",\"\",道卓用２!E17)","v":""},{"$f":"IF(N17=\"\",\"\",'カデット参加申込書(女子)'!$M$4)","v":""},{"$f":"IF(道卓用２!F17=\"\",\"\",道卓用２!F17)","v":""},{"$f":"IF(道卓用２!G17=\"\",\"\",道卓用２!G17)","v":""},{"$f":"IF(Q17=\"\",\"\",'カデット参加申込書(女子)'!$M$4)","v":""}]
[16,{"$f":"IF('カデット参加申込書（男子）'!C25=\"\",\"\",'カデット参加申込書（男子）'!C25)","v":""},{"$f":"IF('カデット参加申込書（男子）'!E25=\"\",\"\",'カデット参加申込書（男子）'!E25)","v":""},{"$f":"IF(B18=\"\",\"\",'カデット参加申込書（男子）'!$M$4)","v":""},{"$f":"IF('カデット参加申込書（男子）'!C59=\"\",\"\",'カデット参加申込書（男子）'!C59)","v":""},{"$f":"IF('カデット参加申込書（男子）'!E59=\"\",\"\",'カデット参加申込書（男子）'!E59)","v":""},{"$f":"IF(E18=\"\",\"\",'カデット参加申込書（男子）'!$M$4)","v":""},{"$f":"IF('カデット参加申込書(女子)'!C25=\"\",\"\",'カデット参加申込書(女子)'!C25)","v":""},{"$f":"IF('カデット参加申込書(女子)'!E25=\"\",\"\",'カデット参加申込書(女子)'!E25)","v":""},{"$f":"IF(H18=\"\",\"\",'カデット参加申込書(女子)'!$M$4)","v":""},{"$f":"IF('カデット参加申込書(女子)'!C59=\"\",\"\",'カデット参加申込書(女子)'!C59)","v":""},{"$f":"IF('カデット参加申込書(女子)'!E59=\"\",\"\",'カデット参加申込書(女子)'!E59)","v":""},{"$f":"IF(K18=\"\",\"\",'カデット参加申込書(女子)'!$M$4)","v":""},{"$f":"IF(道卓用２!D18=\"\",\"\",道卓用２!D18)","v":""},{"$f":"IF(道卓用２!E18=\"\",\"\",道卓用２!E18)","v":""},{"$f":"IF(N18=\"\",\"\",'カデット参加申込書(女子)'!$M$4)","v":""},{"$f":"IF(道卓用２!F18=\"\",\"\",道卓用２!F18)","v":""},{"$f":"IF(道卓用２!G18=\"\",\"\",道卓用２!G18)","v":""},{"$f":"IF(Q18=\"\",\"\",'カデット参加申込書(女子)'!$M$4)","v":""}]
[17,{"$f":"IF('カデット参加申込書（男子）'!C26=\"\",\"\",'カデット参加申込書（男子）'!C26)","v":""},{"$f":"IF('カデット参加申込書（男子）'!E26=\"\",\"\",'カデット参加申込書（男子）'!E26)","v":""},{"$f":"IF(B19=\"\",\"\",'カデット参加申込書（男子）'!$M$4)","v":""},{"$f":"IF('カデット参加申込書（男子）'!C60=\"\",\"\",'カデット参加申込書（男子）'!C60)","v":""},{"$f":"IF('カデット参加申込書（男子）'!E60=\"\",\"\",'カデット参加申込書（男子）'!E60)","v":""},{"$f":"IF(E19=\"\",\"\",'カデット参加申込書（男子）'!$M$4)","v":""},{"$f":"IF('カデット参加申込書(女子)'!C26=\"\",\"\",'カデット参加申込書(女子)'!C26)","v":""},{"$f":"IF('カデット参加申込書(女子)'!E26=\"\",\"\",'カデット参加申込書(女子)'!E26)","v":""},{"$f":"IF(H19=\"\",\"\",'カデット参加申込書(女子)'!$M$4)","v":""},{"$f":"IF('カデット参加申込書(女子)'!C60=\"\",\"\",'カデット参加申込書(女子)'!C60)","v":""},{"$f":"IF('カデット参加申込書(女子)'!E60=\"\",\"\",'カデット参加申込書(女子)'!E60)","v":""},{"$f":"IF(K19=\"\",\"\",'カデット参加申込書(女子)'!$M$4)","v":""},{"$f":"IF(道卓用２!D19=\"\",\"\",道卓用２!D19)","v":""},{"$f":"IF(道卓用２!E19=\"\",\"\",道卓用２!E19)","v":""},{"$f":"IF(N19=\"\",\"\",'カデット参加申込書(女子)'!$M$4)","v":""},{"$f":"IF(道卓用２!F19=\"\",\"\",道卓用２!F19)","v":""},{"$f":"IF(道卓用２!G19=\"\",\"\",道卓用２!G19)","v":""},{"$f":"IF(Q19=\"\",\"\",'カデット参加申込書(女子)'!$M$4)","v":""}]
[18,{"$f":"IF('カデット参加申込書（男子）'!C27=\"\",\"\",'カデット参加申込書（男子）'!C27)","v":""},{"$f":"IF('カデット参加申込書（男子）'!E27=\"\",\"\",'カデット参加申込書（男子）'!E27)","v":""},{"$f":"IF(B20=\"\",\"\",'カデット参加申込書（男子）'!$M$4)","v":""},{"$f":"IF('カデット参加申込書（男子）'!C61=\"\",\"\",'カデット参加申込書（男子）'!C61)","v":""},{"$f":"IF('カデット参加申込書（男子）'!E61=\"\",\"\",'カデット参加申込書（男子）'!E61)","v":""},{"$f":"IF(E20=\"\",\"\",'カデット参加申込書（男子）'!$M$4)","v":""},{"$f":"IF('カデット参加申込書(女子)'!C27=\"\",\"\",'カデット参加申込書(女子)'!C27)","v":""},{"$f":"IF('カデット参加申込書(女子)'!E27=\"\",\"\",'カデット参加申込書(女子)'!E27)","v":""},{"$f":"IF(H20=\"\",\"\",'カデット参加申込書(女子)'!$M$4)","v":""},{"$f":"IF('カデット参加申込書(女子)'!C61=\"\",\"\",'カデット参加申込書(女子)'!C61)","v":""},{"$f":"IF('カデット参加申込書(女子)'!E61=\"\",\"\",'カデット参加申込書(女子)'!E61)","v":""},{"$f":"IF(K20=\"\",\"\",'カデット参加申込書(女子)'!$M$4)","v":""},{"$f":"IF(道卓用２!D20=\"\",\"\",道卓用２!D20)","v":""},{"$f":"IF(道卓用２!E20=\"\",\"\",道卓用２!E20)","v":""},{"$f":"IF(N20=\"\",\"\",'カデット参加申込書(女子)'!$M$4)","v":""},{"$f":"IF(道卓用２!F20=\"\",\"\",道卓用２!F20)","v":""},{"$f":"IF(道卓用２!G20=\"\",\"\",道卓用２!G20)","v":""},{"$f":"IF(Q20=\"\",\"\",'カデット参加申込書(女子)'!$M$4)","v":""}]
[19,{"$f":"IF('カデット参加申込書（男子）'!C28=\"\",\"\",'カデット参加申込書（男子）'!C28)","v":""},{"$f":"IF('カデット参加申込書（男子）'!E28=\"\",\"\",'カデット参加申込書（男子）'!E28)","v":""},{"$f":"IF(B21=\"\",\"\",'カデット参加申込書（男子）'!$M$4)","v":""},{"$f":"IF('カデット参加申込書（男子）'!C62=\"\",\"\",'カデット参加申込書（男子）'!C62)","v":""},{"$f":"IF('カデット参加申込書（男子）'!E62=\"\",\"\",'カデット参加申込書（男子）'!E62)","v":""},{"$f":"IF(E21=\"\",\"\",'カデット参加申込書（男子）'!$M$4)","v":""},{"$f":"IF('カデット参加申込書(女子)'!C28=\"\",\"\",'カデット参加申込書(女子)'!C28)","v":""},{"$f":"IF('カデット参加申込書(女子)'!E28=\"\",\"\",'カデット参加申込書(女子)'!E28)","v":""},{"$f":"IF(H21=\"\",\"\",'カデット参加申込書(女子)'!$M$4)","v":""},{"$f":"IF('カデット参加申込書(女子)'!C62=\"\",\"\",'カデット参加申込書(女子)'!C62)","v":""},{"$f":"IF('カデット参加申込書(女子)'!E62=\"\",\"\",'カデット参加申込書(女子)'!E62)","v":""},{"$f":"IF(K21=\"\",\"\",'カデット参加申込書(女子)'!$M$4)","v":""},{"$f":"IF(道卓用２!D21=\"\",\"\",道卓用２!D21)","v":""},{"$f":"IF(道卓用２!E21=\"\",\"\",道卓用２!E21)","v":""},{"$f":"IF(N21=\"\",\"\",'カデット参加申込書(女子)'!$M$4)","v":""},{"$f":"IF(道卓用２!F21=\"\",\"\",道卓用２!F21)","v":""},{"$f":"IF(道卓用２!G21=\"\",\"\",道卓用２!G21)","v":""},{"$f":"IF(Q21=\"\",\"\",'カデット参加申込書(女子)'!$M$4)","v":""}]
[20,{"$f":"IF('カデット参加申込書（男子）'!C29=\"\",\"\",'カデット参加申込書（男子）'!C29)","v":""},{"$f":"IF('カデット参加申込書（男子）'!E29=\"\",\"\",'カデット参加申込書（男子）'!E29)","v":""},{"$f":"IF(B22=\"\",\"\",'カデット参加申込書（男子）'!$M$4)","v":""},{"$f":"IF('カデット参加申込書（男子）'!C63=\"\",\"\",'カデット参加申込書（男子）'!C63)","v":""},{"$f":"IF('カデット参加申込書（男子）'!E63=\"\",\"\",'カデット参加申込書（男子）'!E63)","v":""},{"$f":"IF(E22=\"\",\"\",'カデット参加申込書（男子）'!$M$4)","v":""},{"$f":"IF('カデット参加申込書(女子)'!C29=\"\",\"\",'カデット参加申込書(女子)'!C29)","v":""},{"$f":"IF('カデット参加申込書(女子)'!E29=\"\",\"\",'カデット参加申込書(女子)'!E29)","v":""},{"$f":"IF(H22=\"\",\"\",'カデット参加申込書(女子)'!$M$4)","v":""},{"$f":"IF('カデット参加申込書(女子)'!C63=\"\",\"\",'カデット参加申込書(女子)'!C63)","v":""},{"$f":"IF('カデット参加申込書(女子)'!E63=\"\",\"\",'カデット参加申込書(女子)'!E63)","v":""},{"$f":"IF(K22=\"\",\"\",'カデット参加申込書(女子)'!$M$4)","v":""},{"$f":"IF(道卓用２!D22=\"\",\"\",道卓用２!D22)","v":""},{"$f":"IF(道卓用２!E22=\"\",\"\",道卓用２!E22)","v":""},{"$f":"IF(N22=\"\",\"\",'カデット参加申込書(女子)'!$M$4)","v":""},{"$f":"IF(道卓用２!F22=\"\",\"\",道卓用２!F22)","v":""},{"$f":"IF(道卓用２!G22=\"\",\"\",道卓用２!G22)","v":""},{"$f":"IF(Q22=\"\",\"\",'カデット参加申込書(女子)'!$M$4)","v":""}]
[21,{"$f":"IF('カデット参加申込書（男子）'!J10=\"\",\"\",'カデット参加申込書（男子）'!J10)","v":""},{"$f":"IF('カデット参加申込書（男子）'!L10=\"\",\"\",'カデット参加申込書（男子）'!L10)","v":""},{"$f":"IF(B23=\"\",\"\",'カデット参加申込書（男子）'!$M$4)","v":""},{"$f":"IF('カデット参加申込書（男子）'!J44=\"\",\"\",'カデット参加申込書（男子）'!J44)","v":""},{"$f":"IF('カデット参加申込書（男子）'!J44=\"\",\"\",'カデット参加申込書（男子）'!J44)","v":""},{"$f":"IF(E23=\"\",\"\",'カデット参加申込書（男子）'!$M$4)","v":""},{"$f":"IF('カデット参加申込書(女子)'!J10=\"\",\"\",'カデット参加申込書(女子)'!J10)","v":""},{"$f":"IF('カデット参加申込書(女子)'!L10=\"\",\"\",'カデット参加申込書(女子)'!L10)","v":""},{"$f":"IF(H23=\"\",\"\",'カデット参加申込書(女子)'!$M$4)","v":""},{"$f":"IF('カデット参加申込書(女子)'!J44=\"\",\"\",'カデット参加申込書(女子)'!J44)","v":""},{"$f":"IF('カデット参加申込書(女子)'!L44=\"\",\"\",'カデット参加申込書(女子)'!L44)","v":""},{"$f":"IF(K23=\"\",\"\",'カデット参加申込書(女子)'!$M$4)","v":""}]
[22,{"$f":"IF('カデット参加申込書（男子）'!J11=\"\",\"\",'カデット参加申込書（男子）'!J11)","v":""},{"$f":"IF('カデット参加申込書（男子）'!L11=\"\",\"\",'カデット参加申込書（男子）'!L11)","v":""},{"$f":"IF(B24=\"\",\"\",'カデット参加申込書（男子）'!$M$4)","v":""},{"$f":"IF('カデット参加申込書（男子）'!J45=\"\",\"\",'カデット参加申込書（男子）'!J45)","v":""},{"$f":"IF('カデット参加申込書（男子）'!J45=\"\",\"\",'カデット参加申込書（男子）'!J45)","v":""},{"$f":"IF(E24=\"\",\"\",'カデット参加申込書（男子）'!$M$4)","v":""},{"$f":"IF('カデット参加申込書(女子)'!J11=\"\",\"\",'カデット参加申込書(女子)'!J11)","v":""},{"$f":"IF('カデット参加申込書(女子)'!L11=\"\",\"\",'カデット参加申込書(女子)'!L11)","v":""},{"$f":"IF(H24=\"\",\"\",'カデット参加申込書(女子)'!$M$4)","v":""},{"$f":"IF('カデット参加申込書(女子)'!J45=\"\",\"\",'カデット参加申込書(女子)'!J45)","v":""},{"$f":"IF('カデット参加申込書(女子)'!L45=\"\",\"\",'カデット参加申込書(女子)'!L45)","v":""},{"$f":"IF(K24=\"\",\"\",'カデット参加申込書(女子)'!$M$4)","v":""}]
[23,{"$f":"IF('カデット参加申込書（男子）'!J12=\"\",\"\",'カデット参加申込書（男子）'!J12)","v":""},{"$f":"IF('カデット参加申込書（男子）'!L12=\"\",\"\",'カデット参加申込書（男子）'!L12)","v":""},{"$f":"IF(B25=\"\",\"\",'カデット参加申込書（男子）'!$M$4)","v":""},{"$f":"IF('カデット参加申込書（男子）'!J46=\"\",\"\",'カデット参加申込書（男子）'!J46)","v":""},{"$f":"IF('カデット参加申込書（男子）'!J46=\"\",\"\",'カデット参加申込書（男子）'!J46)","v":""},{"$f":"IF(E25=\"\",\"\",'カデット参加申込書（男子）'!$M$4)","v":""},{"$f":"IF('カデット参加申込書(女子)'!J12=\"\",\"\",'カデット参加申込書(女子)'!J12)","v":""},{"$f":"IF('カデット参加申込書(女子)'!L12=\"\",\"\",'カデット参加申込書(女子)'!L12)","v":""},{"$f":"IF(H25=\"\",\"\",'カデット参加申込書(女子)'!$M$4)","v":""},{"$f":"IF('カデット参加申込書(女子)'!J46=\"\",\"\",'カデット参加申込書(女子)'!J46)","v":""},{"$f":"IF('カデット参加申込書(女子)'!L46=\"\",\"\",'カデット参加申込書(女子)'!L46)","v":""},{"$f":"IF(K25=\"\",\"\",'カデット参加申込書(女子)'!$M$4)","v":""}]
[24,{"$f":"IF('カデット参加申込書（男子）'!J13=\"\",\"\",'カデット参加申込書（男子）'!J13)","v":""},{"$f":"IF('カデット参加申込書（男子）'!L13=\"\",\"\",'カデット参加申込書（男子）'!L13)","v":""},{"$f":"IF(B26=\"\",\"\",'カデット参加申込書（男子）'!$M$4)","v":""},{"$f":"IF('カデット参加申込書（男子）'!J47=\"\",\"\",'カデット参加申込書（男子）'!J47)","v":""},{"$f":"IF('カデット参加申込書（男子）'!J47=\"\",\"\",'カデット参加申込書（男子）'!J47)","v":""},{"$f":"IF(E26=\"\",\"\",'カデット参加申込書（男子）'!$M$4)","v":""},{"$f":"IF('カデット参加申込書(女子)'!J13=\"\",\"\",'カデット参加申込書(女子)'!J13)","v":""},{"$f":"IF('カデット参加申込書(女子)'!L13=\"\",\"\",'カデット参加申込書(女子)'!L13)","v":""},{"$f":"IF(H26=\"\",\"\",'カデット参加申込書(女子)'!$M$4)","v":""},{"$f":"IF('カデット参加申込書(女子)'!J47=\"\",\"\",'カデット参加申込書(女子)'!J47)","v":""},{"$f":"IF('カデット参加申込書(女子)'!L47=\"\",\"\",'カデット参加申込書(女子)'!L47)","v":""},{"$f":"IF(K26=\"\",\"\",'カデット参加申込書(女子)'!$M$4)","v":""}]
[25,{"$f":"IF('カデット参加申込書（男子）'!J14=\"\",\"\",'カデット参加申込書（男子）'!J14)","v":""},{"$f":"IF('カデット参加申込書（男子）'!L14=\"\",\"\",'カデット参加申込書（男子）'!L14)","v":""},{"$f":"IF(B27=\"\",\"\",'カデット参加申込書（男子）'!$M$4)","v":""},{"$f":"IF('カデット参加申込書（男子）'!J48=\"\",\"\",'カデット参加申込書（男子）'!J48)","v":""},{"$f":"IF('カデット参加申込書（男子）'!J48=\"\",\"\",'カデット参加申込書（男子）'!J48)","v":""},{"$f":"IF(E27=\"\",\"\",'カデット参加申込書（男子）'!$M$4)","v":""},{"$f":"IF('カデット参加申込書(女子)'!J14=\"\",\"\",'カデット参加申込書(女子)'!J14)","v":""},{"$f":"IF('カデット参加申込書(女子)'!L14=\"\",\"\",'カデット参加申込書(女子)'!L14)","v":""},{"$f":"IF(H27=\"\",\"\",'カデット参加申込書(女子)'!$M$4)","v":""},{"$f":"IF('カデット参加申込書(女子)'!J48=\"\",\"\",'カデット参加申込書(女子)'!J48)","v":""},{"$f":"IF('カデット参加申込書(女子)'!L48=\"\",\"\",'カデット参加申込書(女子)'!L48)","v":""},{"$f":"IF(K27=\"\",\"\",'カデット参加申込書(女子)'!$M$4)","v":""}]
[26,{"$f":"IF('カデット参加申込書（男子）'!J15=\"\",\"\",'カデット参加申込書（男子）'!J15)","v":""},{"$f":"IF('カデット参加申込書（男子）'!L15=\"\",\"\",'カデット参加申込書（男子）'!L15)","v":""},{"$f":"IF(B28=\"\",\"\",'カデット参加申込書（男子）'!$M$4)","v":""},{"$f":"IF('カデット参加申込書（男子）'!J49=\"\",\"\",'カデット参加申込書（男子）'!J49)","v":""},{"$f":"IF('カデット参加申込書（男子）'!J49=\"\",\"\",'カデット参加申込書（男子）'!J49)","v":""},{"$f":"IF(E28=\"\",\"\",'カデット参加申込書（男子）'!$M$4)","v":""},{"$f":"IF('カデット参加申込書(女子)'!J15=\"\",\"\",'カデット参加申込書(女子)'!J15)","v":""},{"$f":"IF('カデット参加申込書(女子)'!L15=\"\",\"\",'カデット参加申込書(女子)'!L15)","v":""},{"$f":"IF(H28=\"\",\"\",'カデット参加申込書(女子)'!$M$4)","v":""},{"$f":"IF('カデット参加申込書(女子)'!J49=\"\",\"\",'カデット参加申込書(女子)'!J49)","v":""},{"$f":"IF('カデット参加申込書(女子)'!L49=\"\",\"\",'カデット参加申込書(女子)'!L49)","v":""},{"$f":"IF(K28=\"\",\"\",'カデット参加申込書(女子)'!$M$4)","v":""}]
[27,{"$f":"IF('カデット参加申込書（男子）'!J16=\"\",\"\",'カデット参加申込書（男子）'!J16)","v":""},{"$f":"IF('カデット参加申込書（男子）'!L16=\"\",\"\",'カデット参加申込書（男子）'!L16)","v":""},{"$f":"IF(B29=\"\",\"\",'カデット参加申込書（男子）'!$M$4)","v":""},{"$f":"IF('カデット参加申込書（男子）'!J50=\"\",\"\",'カデット参加申込書（男子）'!J50)","v":""},{"$f":"IF('カデット参加申込書（男子）'!J50=\"\",\"\",'カデット参加申込書（男子）'!J50)","v":""},{"$f":"IF(E29=\"\",\"\",'カデット参加申込書（男子）'!$M$4)","v":""},{"$f":"IF('カデット参加申込書(女子)'!J16=\"\",\"\",'カデット参加申込書(女子)'!J16)","v":""},{"$f":"IF('カデット参加申込書(女子)'!L16=\"\",\"\",'カデット参加申込書(女子)'!L16)","v":""},{"$f":"IF(H29=\"\",\"\",'カデット参加申込書(女子)'!$M$4)","v":""},{"$f":"IF('カデット参加申込書(女子)'!J50=\"\",\"\",'カデット参加申込書(女子)'!J50)","v":""},{"$f":"IF('カデット参加申込書(女子)'!L50=\"\",\"\",'カデット参加申込書(女子)'!L50)","v":""},{"$f":"IF(K29=\"\",\"\",'カデット参加申込書(女子)'!$M$4)","v":""}]
[28,{"$f":"IF('カデット参加申込書（男子）'!J17=\"\",\"\",'カデット参加申込書（男子）'!J17)","v":""},{"$f":"IF('カデット参加申込書（男子）'!L17=\"\",\"\",'カデット参加申込書（男子）'!L17)","v":""},{"$f":"IF(B30=\"\",\"\",'カデット参加申込書（男子）'!$M$4)","v":""},{"$f":"IF('カデット参加申込書（男子）'!J51=\"\",\"\",'カデット参加申込書（男子）'!J51)","v":""},{"$f":"IF('カデット参加申込書（男子）'!J51=\"\",\"\",'カデット参加申込書（男子）'!J51)","v":""},{"$f":"IF(E30=\"\",\"\",'カデット参加申込書（男子）'!$M$4)","v":""},{"$f":"IF('カデット参加申込書(女子)'!J17=\"\",\"\",'カデット参加申込書(女子)'!J17)","v":""},{"$f":"IF('カデット参加申込書(女子)'!L17=\"\",\"\",'カデット参加申込書(女子)'!L17)","v":""},{"$f":"IF(H30=\"\",\"\",'カデット参加申込書(女子)'!$M$4)","v":""},{"$f":"IF('カデット参加申込書(女子)'!J51=\"\",\"\",'カデット参加申込書(女子)'!J51)","v":""},{"$f":"IF('カデット参加申込書(女子)'!L51=\"\",\"\",'カデット参加申込書(女子)'!L51)","v":""},{"$f":"IF(K30=\"\",\"\",'カデット参加申込書(女子)'!$M$4)","v":""}]
[29,{"$f":"IF('カデット参加申込書（男子）'!J18=\"\",\"\",'カデット参加申込書（男子）'!J18)","v":""},{"$f":"IF('カデット参加申込書（男子）'!L18=\"\",\"\",'カデット参加申込書（男子）'!L18)","v":""},{"$f":"IF(B31=\"\",\"\",'カデット参加申込書（男子）'!$M$4)","v":""},{"$f":"IF('カデット参加申込書（男子）'!J52=\"\",\"\",'カデット参加申込書（男子）'!J52)","v":""},{"$f":"IF('カデット参加申込書（男子）'!J52=\"\",\"\",'カデット参加申込書（男子）'!J52)","v":""},{"$f":"IF(E31=\"\",\"\",'カデット参加申込書（男子）'!$M$4)","v":""},{"$f":"IF('カデット参加申込書(女子)'!J18=\"\",\"\",'カデット参加申込書(女子)'!J18)","v":""},{"$f":"IF('カデット参加申込書(女子)'!L18=\"\",\"\",'カデット参加申込書(女子)'!L18)","v":""},{"$f":"IF(H31=\"\",\"\",'カデット参加申込書(女子)'!$M$4)","v":""},{"$f":"IF('カデット参加申込書(女子)'!J52=\"\",\"\",'カデット参加申込書(女子)'!J52)","v":""},{"$f":"IF('カデット参加申込書(女子)'!L52=\"\",\"\",'カデット参加申込書(女子)'!L52)","v":""},{"$f":"IF(K31=\"\",\"\",'カデット参加申込書(女子)'!$M$4)","v":""}]
[30,{"$f":"IF('カデット参加申込書（男子）'!J19=\"\",\"\",'カデット参加申込書（男子）'!J19)","v":""},{"$f":"IF('カデット参加申込書（男子）'!L19=\"\",\"\",'カデット参加申込書（男子）'!L19)","v":""},{"$f":"IF(B32=\"\",\"\",'カデット参加申込書（男子）'!$M$4)","v":""},{"$f":"IF('カデット参加申込書（男子）'!J53=\"\",\"\",'カデット参加申込書（男子）'!J53)","v":""},{"$f":"IF('カデット参加申込書（男子）'!J53=\"\",\"\",'カデット参加申込書（男子）'!J53)","v":""},{"$f":"IF(E32=\"\",\"\",'カデット参加申込書（男子）'!$M$4)","v":""},{"$f":"IF('カデット参加申込書(女子)'!J19=\"\",\"\",'カデット参加申込書(女子)'!J19)","v":""},{"$f":"IF('カデット参加申込書(女子)'!L19=\"\",\"\",'カデット参加申込書(女子)'!L19)","v":""},{"$f":"IF(H32=\"\",\"\",'カデット参加申込書(女子)'!$M$4)","v":""},{"$f":"IF('カデット参加申込書(女子)'!J53=\"\",\"\",'カデット参加申込書(女子)'!J53)","v":""},{"$f":"IF('カデット参加申込書(女子)'!L53=\"\",\"\",'カデット参加申込書(女子)'!L53)","v":""},{"$f":"IF(K32=\"\",\"\",'カデット参加申込書(女子)'!$M$4)","v":""}]
[31,{"$f":"IF('カデット参加申込書（男子）'!J20=\"\",\"\",'カデット参加申込書（男子）'!J20)","v":""},{"$f":"IF('カデット参加申込書（男子）'!L20=\"\",\"\",'カデット参加申込書（男子）'!L20)","v":""},{"$f":"IF(B33=\"\",\"\",'カデット参加申込書（男子）'!$M$4)","v":""},{"$f":"IF('カデット参加申込書（男子）'!J54=\"\",\"\",'カデット参加申込書（男子）'!J54)","v":""},{"$f":"IF('カデット参加申込書（男子）'!J54=\"\",\"\",'カデット参加申込書（男子）'!J54)","v":""},{"$f":"IF(E33=\"\",\"\",'カデット参加申込書（男子）'!$M$4)","v":""},{"$f":"IF('カデット参加申込書(女子)'!J20=\"\",\"\",'カデット参加申込書(女子)'!J20)","v":""},{"$f":"IF('カデット参加申込書(女子)'!L20=\"\",\"\",'カデット参加申込書(女子)'!L20)","v":""},{"$f":"IF(H33=\"\",\"\",'カデット参加申込書(女子)'!$M$4)","v":""},{"$f":"IF('カデット参加申込書(女子)'!J54=\"\",\"\",'カデット参加申込書(女子)'!J54)","v":""},{"$f":"IF('カデット参加申込書(女子)'!L54=\"\",\"\",'カデット参加申込書(女子)'!L54)","v":""},{"$f":"IF(K33=\"\",\"\",'カデット参加申込書(女子)'!$M$4)","v":""}]
[32,{"$f":"IF('カデット参加申込書（男子）'!J21=\"\",\"\",'カデット参加申込書（男子）'!J21)","v":""},{"$f":"IF('カデット参加申込書（男子）'!L21=\"\",\"\",'カデット参加申込書（男子）'!L21)","v":""},{"$f":"IF(B34=\"\",\"\",'カデット参加申込書（男子）'!$M$4)","v":""},{"$f":"IF('カデット参加申込書（男子）'!J55=\"\",\"\",'カデット参加申込書（男子）'!J55)","v":""},{"$f":"IF('カデット参加申込書（男子）'!J55=\"\",\"\",'カデット参加申込書（男子）'!J55)","v":""},{"$f":"IF(E34=\"\",\"\",'カデット参加申込書（男子）'!$M$4)","v":""},{"$f":"IF('カデット参加申込書(女子)'!J21=\"\",\"\",'カデット参加申込書(女子)'!J21)","v":""},{"$f":"IF('カデット参加申込書(女子)'!L21=\"\",\"\",'カデット参加申込書(女子)'!L21)","v":""},{"$f":"IF(H34=\"\",\"\",'カデット参加申込書(女子)'!$M$4)","v":""},{"$f":"IF('カデット参加申込書(女子)'!J55=\"\",\"\",'カデット参加申込書(女子)'!J55)","v":""},{"$f":"IF('カデット参加申込書(女子)'!L55=\"\",\"\",'カデット参加申込書(女子)'!L55)","v":""},{"$f":"IF(K34=\"\",\"\",'カデット参加申込書(女子)'!$M$4)","v":""}]
[33,{"$f":"IF('カデット参加申込書（男子）'!J22=\"\",\"\",'カデット参加申込書（男子）'!J22)","v":""},{"$f":"IF('カデット参加申込書（男子）'!L22=\"\",\"\",'カデット参加申込書（男子）'!L22)","v":""},{"$f":"IF(B35=\"\",\"\",'カデット参加申込書（男子）'!$M$4)","v":""},{"$f":"IF('カデット参加申込書（男子）'!J56=\"\",\"\",'カデット参加申込書（男子）'!J56)","v":""},{"$f":"IF('カデット参加申込書（男子）'!J56=\"\",\"\",'カデット参加申込書（男子）'!J56)","v":""},{"$f":"IF(E35=\"\",\"\",'カデット参加申込書（男子）'!$M$4)","v":""},{"$f":"IF('カデット参加申込書(女子)'!J22=\"\",\"\",'カデット参加申込書(女子)'!J22)","v":""},{"$f":"IF('カデット参加申込書(女子)'!L22=\"\",\"\",'カデット参加申込書(女子)'!L22)","v":""},{"$f":"IF(H35=\"\",\"\",'カデット参加申込書(女子)'!$M$4)","v":""},{"$f":"IF('カデット参加申込書(女子)'!J56=\"\",\"\",'カデット参加申込書(女子)'!J56)","v":""},{"$f":"IF('カデット参加申込書(女子)'!L56=\"\",\"\",'カデット参加申込書(女子)'!L56)","v":""},{"$f":"IF(K35=\"\",\"\",'カデット参加申込書(女子)'!$M$4)","v":""}]
[34,{"$f":"IF('カデット参加申込書（男子）'!J23=\"\",\"\",'カデット参加申込書（男子）'!J23)","v":""},{"$f":"IF('カデット参加申込書（男子）'!L23=\"\",\"\",'カデット参加申込書（男子）'!L23)","v":""},{"$f":"IF(B36=\"\",\"\",'カデット参加申込書（男子）'!$M$4)","v":""},{"$f":"IF('カデット参加申込書（男子）'!J57=\"\",\"\",'カデット参加申込書（男子）'!J57)","v":""},{"$f":"IF('カデット参加申込書（男子）'!J57=\"\",\"\",'カデット参加申込書（男子）'!J57)","v":""},{"$f":"IF(E36=\"\",\"\",'カデット参加申込書（男子）'!$M$4)","v":""},{"$f":"IF('カデット参加申込書(女子)'!J23=\"\",\"\",'カデット参加申込書(女子)'!J23)","v":""},{"$f":"IF('カデット参加申込書(女子)'!L23=\"\",\"\",'カデット参加申込書(女子)'!L23)","v":""},{"$f":"IF(H36=\"\",\"\",'カデット参加申込書(女子)'!$M$4)","v":""},{"$f":"IF('カデット参加申込書(女子)'!J57=\"\",\"\",'カデット参加申込書(女子)'!J57)","v":""},{"$f":"IF('カデット参加申込書(女子)'!L57=\"\",\"\",'カデット参加申込書(女子)'!L57)","v":""},{"$f":"IF(K36=\"\",\"\",'カデット参加申込書(女子)'!$M$4)","v":""}]
[35,{"$f":"IF('カデット参加申込書（男子）'!J24=\"\",\"\",'カデット参加申込書（男子）'!J24)","v":""},{"$f":"IF('カデット参加申込書（男子）'!L24=\"\",\"\",'カデット参加申込書（男子）'!L24)","v":""},{"$f":"IF(B37=\"\",\"\",'カデット参加申込書（男子）'!$M$4)","v":""},{"$f":"IF('カデット参加申込書（男子）'!J58=\"\",\"\",'カデット参加申込書（男子）'!J58)","v":""},{"$f":"IF('カデット参加申込書（男子）'!J58=\"\",\"\",'カデット参加申込書（男子）'!J58)","v":""},{"$f":"IF(E37=\"\",\"\",'カデット参加申込書（男子）'!$M$4)","v":""},{"$f":"IF('カデット参加申込書(女子)'!J24=\"\",\"\",'カデット参加申込書(女子)'!J24)","v":""},{"$f":"IF('カデット参加申込書(女子)'!L24=\"\",\"\",'カデット参加申込書(女子)'!L24)","v":""},{"$f":"IF(H37=\"\",\"\",'カデット参加申込書(女子)'!$M$4)","v":""},{"$f":"IF('カデット参加申込書(女子)'!J58=\"\",\"\",'カデット参加申込書(女子)'!J58)","v":""},{"$f":"IF('カデット参加申込書(女子)'!L58=\"\",\"\",'カデット参加申込書(女子)'!L58)","v":""},{"$f":"IF(K37=\"\",\"\",'カデット参加申込書(女子)'!$M$4)","v":""}]
[36,{"$f":"IF('カデット参加申込書（男子）'!J25=\"\",\"\",'カデット参加申込書（男子）'!J25)","v":""},{"$f":"IF('カデット参加申込書（男子）'!L25=\"\",\"\",'カデット参加申込書（男子）'!L25)","v":""},{"$f":"IF(B38=\"\",\"\",'カデット参加申込書（男子）'!$M$4)","v":""},{"$f":"IF('カデット参加申込書（男子）'!J59=\"\",\"\",'カデット参加申込書（男子）'!J59)","v":""},{"$f":"IF('カデット参加申込書（男子）'!J59=\"\",\"\",'カデット参加申込書（男子）'!J59)","v":""},{"$f":"IF(E38=\"\",\"\",'カデット参加申込書（男子）'!$M$4)","v":""},{"$f":"IF('カデット参加申込書(女子)'!J25=\"\",\"\",'カデット参加申込書(女子)'!J25)","v":""},{"$f":"IF('カデット参加申込書(女子)'!L25=\"\",\"\",'カデット参加申込書(女子)'!L25)","v":""},{"$f":"IF(H38=\"\",\"\",'カデット参加申込書(女子)'!$M$4)","v":""},{"$f":"IF('カデット参加申込書(女子)'!J59=\"\",\"\",'カデット参加申込書(女子)'!J59)","v":""},{"$f":"IF('カデット参加申込書(女子)'!L59=\"\",\"\",'カデット参加申込書(女子)'!L59)","v":""},{"$f":"IF(K38=\"\",\"\",'カデット参加申込書(女子)'!$M$4)","v":""}]
[37,{"$f":"IF('カデット参加申込書（男子）'!J26=\"\",\"\",'カデット参加申込書（男子）'!J26)","v":""},{"$f":"IF('カデット参加申込書（男子）'!L26=\"\",\"\",'カデット参加申込書（男子）'!L26)","v":""},{"$f":"IF(B39=\"\",\"\",'カデット参加申込書（男子）'!$M$4)","v":""},{"$f":"IF('カデット参加申込書（男子）'!J60=\"\",\"\",'カデット参加申込書（男子）'!J60)","v":""},{"$f":"IF('カデット参加申込書（男子）'!J60=\"\",\"\",'カデット参加申込書（男子）'!J60)","v":""},{"$f":"IF(E39=\"\",\"\",'カデット参加申込書（男子）'!$M$4)","v":""},{"$f":"IF('カデット参加申込書(女子)'!J26=\"\",\"\",'カデット参加申込書(女子)'!J26)","v":""},{"$f":"IF('カデット参加申込書(女子)'!L26=\"\",\"\",'カデット参加申込書(女子)'!L26)","v":""},{"$f":"IF(H39=\"\",\"\",'カデット参加申込書(女子)'!$M$4)","v":""},{"$f":"IF('カデット参加申込書(女子)'!J60=\"\",\"\",'カデット参加申込書(女子)'!J60)","v":""},{"$f":"IF('カデット参加申込書(女子)'!L60=\"\",\"\",'カデット参加申込書(女子)'!L60)","v":""},{"$f":"IF(K39=\"\",\"\",'カデット参加申込書(女子)'!$M$4)","v":""}]
[38,{"$f":"IF('カデット参加申込書（男子）'!J27=\"\",\"\",'カデット参加申込書（男子）'!J27)","v":""},{"$f":"IF('カデット参加申込書（男子）'!L27=\"\",\"\",'カデット参加申込書（男子）'!L27)","v":""},{"$f":"IF(B40=\"\",\"\",'カデット参加申込書（男子）'!$M$4)","v":""},{"$f":"IF('カデット参加申込書（男子）'!J61=\"\",\"\",'カデット参加申込書（男子）'!J61)","v":""},{"$f":"IF('カデット参加申込書（男子）'!J61=\"\",\"\",'カデット参加申込書（男子）'!J61)","v":""},{"$f":"IF(E40=\"\",\"\",'カデット参加申込書（男子）'!$M$4)","v":""},{"$f":"IF('カデット参加申込書(女子)'!J27=\"\",\"\",'カデット参加申込書(女子)'!J27)","v":""},{"$f":"IF('カデット参加申込書(女子)'!L27=\"\",\"\",'カデット参加申込書(女子)'!L27)","v":""},{"$f":"IF(H40=\"\",\"\",'カデット参加申込書(女子)'!$M$4)","v":""},{"$f":"IF('カデット参加申込書(女子)'!J61=\"\",\"\",'カデット参加申込書(女子)'!J61)","v":""},{"$f":"IF('カデット参加申込書(女子)'!L61=\"\",\"\",'カデット参加申込書(女子)'!L61)","v":""},{"$f":"IF(K40=\"\",\"\",'カデット参加申込書(女子)'!$M$4)","v":""}]
[39,{"$f":"IF('カデット参加申込書（男子）'!J28=\"\",\"\",'カデット参加申込書（男子）'!J28)","v":""},{"$f":"IF('カデット参加申込書（男子）'!L28=\"\",\"\",'カデット参加申込書（男子）'!L28)","v":""},{"$f":"IF(B41=\"\",\"\",'カデット参加申込書（男子）'!$M$4)","v":""},{"$f":"IF('カデット参加申込書（男子）'!J62=\"\",\"\",'カデット参加申込書（男子）'!J62)","v":""},{"$f":"IF('カデット参加申込書（男子）'!J62=\"\",\"\",'カデット参加申込書（男子）'!J62)","v":""},{"$f":"IF(E41=\"\",\"\",'カデット参加申込書（男子）'!$M$4)","v":""},{"$f":"IF('カデット参加申込書(女子)'!J28=\"\",\"\",'カデット参加申込書(女子)'!J28)","v":""},{"$f":"IF('カデット参加申込書(女子)'!L28=\"\",\"\",'カデット参加申込書(女子)'!L28)","v":""},{"$f":"IF(H41=\"\",\"\",'カデット参加申込書(女子)'!$M$4)","v":""},{"$f":"IF('カデット参加申込書(女子)'!J62=\"\",\"\",'カデット参加申込書(女子)'!J62)","v":""},{"$f":"IF('カデット参加申込書(女子)'!L62=\"\",\"\",'カデット参加申込書(女子)'!L62)","v":""},{"$f":"IF(K41=\"\",\"\",'カデット参加申込書(女子)'!$M$4)","v":""}]
[40,{"$f":"IF('カデット参加申込書（男子）'!J29=\"\",\"\",'カデット参加申込書（男子）'!J29)","v":""},{"$f":"IF('カデット参加申込書（男子）'!L29=\"\",\"\",'カデット参加申込書（男子）'!L29)","v":""},{"$f":"IF(B42=\"\",\"\",'カデット参加申込書（男子）'!$M$4)","v":""},{"$f":"IF('カデット参加申込書（男子）'!J63=\"\",\"\",'カデット参加申込書（男子）'!J63)","v":""},{"$f":"IF('カデット参加申込書（男子）'!J63=\"\",\"\",'カデット参加申込書（男子）'!J63)","v":""},{"$f":"IF(E42=\"\",\"\",'カデット参加申込書（男子）'!$M$4)","v":""},{"$f":"IF('カデット参加申込書(女子)'!J29=\"\",\"\",'カデット参加申込書(女子)'!J29)","v":""},{"$f":"IF('カデット参加申込書(女子)'!L29=\"\",\"\",'カデット参加申込書(女子)'!L29)","v":""},{"$f":"IF(H42=\"\",\"\",'カデット参加申込書(女子)'!$M$4)","v":""},{"$f":"IF('カデット参加申込書(女子)'!J63=\"\",\"\",'カデット参加申込書(女子)'!J63)","v":""},{"$f":"IF('カデット参加申込書(女子)'!L63=\"\",\"\",'カデット参加申込書(女子)'!L63)","v":""},{"$f":"IF(K42=\"\",\"\",'カデット参加申込書(女子)'!$M$4)","v":""}]

{"sheet":"道卓用２","index":3,"n_rows":42,"n_cols":9,"rows_kept":42,"cut":false,"hidden":false,"merged":[]}
[null,"男子ダブルス",null,null,null,"女子ダブルス"]
[null,"氏名","所属",null,null,"氏名","所属"]
[1,{"$f":"IF('カデット参加申込書（男子）'!C78=\"\",\"\",'カデット参加申込書（男子）'!C78)","v":""},{"$f":"IF('カデット参加申込書（男子）'!E78=\"\",\"\",'カデット参加申込書（男子）'!E78)","v":""},{"$f":"IF(B3=\"\",\"\",B3&\"・\"&B4)","v":""},{"$f":"IF(C3=C4,C3,C3&\"・\"&C4)","v":""},{"$f":"IF('カデット参加申込書(女子)'!C78=\"\",\"\",'カデット参加申込書(女子)'!C78)","v":""},{"$f":"IF('カデット参加申込書(女子)'!E78=\"\",\"\",'カデット参加申込書(女子)'!E78)","v":""},{"$f":"IF(F3=\"\",\"\",F3&\"・\"&F4)","v":""},{"$f":"IF(G3=G4,G3,G3&\"・\"&G4)","v":""}]
[null,{"$f":"IF('カデット参加申込書（男子）'!C79=\"\",\"\",'カデット参加申込書（男子）'!C79)","v":""},{"$f":"IF('カデット参加申込書（男子）'!E79=\"\",\"\",'カデット参加申込書（男子）'!E79)","v":""},{"$f":"IF(B5=\"\",\"\",B5&\"・\"&B6)","v":""},{"$f":"IF(C5=C6,C5,C5&\"・\"&C6)","v":""},{"$f":"IF('カデット参加申込書(女子)'!C79=\"\",\"\",'カデット参加申込書(女子)'!C79)","v":""},{"$f":"IF('カデット参加申込書(女子)'!E79=\"\",\"\",'カデット参加申込書(女子)'!E79)","v":""},{"$f":"IF(F5=\"\",\"\",F5&\"・\"&F6)","v":""},{"$f":"IF(G5=G6,G5,G5&\"・\"&G6)","v":""}]
[2,{"$f":"IF('カデット参加申込書（男子）'!C80=\"\",\"\",'カデット参加申込書（男子）'!C80)","v":""},{"$f":"IF('カデット参加申込書（男子）'!E80=\"\",\"\",'カデット参加申込書（男子）'!E80)","v":""},{"$f":"IF(B7=\"\",\"\",B7&\"・\"&B8)","v":""},{"$f":"IF(C7=C8,C7,C7&\"・\"&C8)","v":""},{"$f":"IF('カデット参加申込書(女子)'!C80=\"\",\"\",'カデット参加申込書(女子)'!C80)","v":""},{"$f":"IF('カデット参加申込書(女子)'!E80=\"\",\"\",'カデット参加申込書(女子)'!E80)","v":""},{"$f":"IF(F7=\"\",\"\",F7&\"・\"&F8)","v":""},{"$f":"IF(G7=G8,G7,G7&\"・\"&G8)","v":""}]
[null,{"$f":"IF('カデット参加申込書（男子）'!C81=\"\",\"\",'カデット参加申込書（男子）'!C81)","v":""},{"$f":"IF('カデット参加申込書（男子）'!E81=\"\",\"\",'カデット参加申込書（男子）'!E81)","v":""},{"$f":"IF(B9=\"\",\"\",B9&\"・\"&B10)","v":""},{"$f":"IF(C9=C10,C9,C9&\"・\"&C10)","v":""},{"$f":"IF('カデット参加申込書(女子)'!C81=\"\",\"\",'カデット参加申込書(女子)'!C81)","v":""},{"$f":"IF('カデット参加申込書(女子)'!E81=\"\",\"\",'カデット参加申込書(女子)'!E81)","v":""},{"$f":"IF(F9=\"\",\"\",F9&\"・\"&F10)","v":""},{"$f":"IF(G9=G10,G9,G9&\"・\"&G10)","v":""}]
[3,{"$f":"IF('カデット参加申込書（男子）'!C82=\"\",\"\",'カデット参加申込書（男子）'!C82)","v":""},{"$f":"IF('カデット参加申込書（男子）'!E82=\"\",\"\",'カデット参加申込書（男子）'!E82)","v":""},{"$f":"IF(B11=\"\",\"\",B11&\"・\"&B12)","v":""},{"$f":"IF(C11=C12,C11,C11&\"・\"&C12)","v":""},{"$f":"IF('カデット参加申込書(女子)'!C82=\"\",\"\",'カデット参加申込書(女子)'!C82)","v":""},{"$f":"IF('カデット参加申込書(女子)'!E82=\"\",\"\",'カデット参加申込書(女子)'!E82)","v":""},{"$f":"IF(F11=\"\",\"\",F11&\"・\"&F12)","v":""},{"$f":"IF(G11=G12,G11,G11&\"・\"&G12)","v":""}]
[null,{"$f":"IF('カデット参加申込書（男子）'!C83=\"\",\"\",'カデット参加申込書（男子）'!C83)","v":""},{"$f":"IF('カデット参加申込書（男子）'!E83=\"\",\"\",'カデット参加申込書（男子）'!E83)","v":""},{"$f":"IF(B13=\"\",\"\",B13&\"・\"&B14)","v":""},{"$f":"IF(C13=C14,C13,C13&\"・\"&C14)","v":""},{"$f":"IF('カデット参加申込書(女子)'!C83=\"\",\"\",'カデット参加申込書(女子)'!C83)","v":""},{"$f":"IF('カデット参加申込書(女子)'!E83=\"\",\"\",'カデット参加申込書(女子)'!E83)","v":""},{"$f":"IF(F13=\"\",\"\",F13&\"・\"&F14)","v":""},{"$f":"IF(G13=G14,G13,G13&\"・\"&G14)","v":""}]
[4,{"$f":"IF('カデット参加申込書（男子）'!C84=\"\",\"\",'カデット参加申込書（男子）'!C84)","v":""},{"$f":"IF('カデット参加申込書（男子）'!E84=\"\",\"\",'カデット参加申込書（男子）'!E84)","v":""},{"$f":"IF(B15=\"\",\"\",B15&\"・\"&B16)","v":""},{"$f":"IF(C15=C16,C15,C15&\"・\"&C16)","v":""},{"$f":"IF('カデット参加申込書(女子)'!C84=\"\",\"\",'カデット参加申込書(女子)'!C84)","v":""},{"$f":"IF('カデット参加申込書(女子)'!E84=\"\",\"\",'カデット参加申込書(女子)'!E84)","v":""},{"$f":"IF(F15=\"\",\"\",F15&\"・\"&F16)","v":""},{"$f":"IF(G15=G16,G15,G15&\"・\"&G16)","v":""}]
[null,{"$f":"IF('カデット参加申込書（男子）'!C85=\"\",\"\",'カデット参加申込書（男子）'!C85)","v":""},{"$f":"IF('カデット参加申込書（男子）'!E85=\"\",\"\",'カデット参加申込書（男子）'!E85)","v":""},{"$f":"IF(B17=\"\",\"\",B17&\"・\"&B18)","v":""},{"$f":"IF(C17=C18,C17,C17&\"・\"&C18)","v":""},{"$f":"IF('カデット参加申込書(女子)'!C85=\"\",\"\",'カデット参加申込書(女子)'!C85)","v":""},{"$f":"IF('カデット参加申込書(女子)'!E85=\"\",\"\",'カデット参加申込書(女子)'!E85)","v":""},{"$f":"IF(F17=\"\",\"\",F17&\"・\"&F18)","v":""},{"$f":"IF(G17=G18,G17,G17&\"・\"&G18)","v":""}]
[5,{"$f":"IF('カデット参加申込書（男子）'!C86=\"\",\"\",'カデット参加申込書（男子）'!C86)","v":""},{"$f":"IF('カデット参加申込書（男子）'!E86=\"\",\"\",'カデット参加申込書（男子）'!E86)","v":""},{"$f":"IF(B19=\"\",\"\",B19&\"・\"&B20)","v":""},{"$f":"IF(C19=C20,C19,C19&\"・\"&C20)","v":""},{"$f":"IF('カデット参加申込書(女子)'!C86=\"\",\"\",'カデット参加申込書(女子)'!C86)","v":""},{"$f":"IF('カデット参加申込書(女子)'!E86=\"\",\"\",'カデット参加申込書(女子)'!E86)","v":""},{"$f":"IF(F19=\"\",\"\",F19&\"・\"&F20)","v":""},{"$f":"IF(G19=G20,G19,G19&\"・\"&G20)","v":""}]
[null,{"$f":"IF('カデット参加申込書（男子）'!C87=\"\",\"\",'カデット参加申込書（男子）'!C87)","v":""},{"$f":"IF('カデット参加申込書（男子）'!E87=\"\",\"\",'カデット参加申込書（男子）'!E87)","v":""},{"$f":"IF(B21=\"\",\"\",B21&\"・\"&B22)","v":""},{"$f":"IF(C21=C22,C21,C21&\"・\"&C22)","v":""},{"$f":"IF('カデット参加申込書(女子)'!C87=\"\",\"\",'カデット参加申込書(女子)'!C87)","v":""},{"$f":"IF('カデット参加申込書(女子)'!E87=\"\",\"\",'カデット参加申込書(女子)'!E87)","v":""},{"$f":"IF(F21=\"\",\"\",F21&\"・\"&F22)","v":""},{"$f":"IF(G21=G22,G21,G21&\"・\"&G22)","v":""}]
[6,{"$f":"IF('カデット参加申込書（男子）'!C88=\"\",\"\",'カデット参加申込書（男子）'!C88)","v":""},{"$f":"IF('カデット参加申込書（男子）'!E88=\"\",\"\",'カデット参加申込書（男子）'!E88)","v":""},{"$f":"IF(B23=\"\",\"\",B23&\"・\"&B24)","v":""},{"$f":"IF(C23=C24,C23,C23&\"・\"&C24)","v":""},{"$f":"IF('カデット参加申込書(女子)'!C88=\"\",\"\",'カデット参加申込書(女子)'!C88)","v":""},{"$f":"IF('カデット参加申込書(女子)'!E88=\"\",\"\",'カデット参加申込書(女子)'!E88)","v":""},{"$f":"IF(F23=\"\",\"\",F23&\"・\"&F24)","v":""},{"$f":"IF(G23=G24,G23,G23&\"・\"&G24)","v":""}]
[null,{"$f":"IF('カデット参加申込書（男子）'!C89=\"\",\"\",'カデット参加申込書（男子）'!C89)","v":""},{"$f":"IF('カデット参加申込書（男子）'!E89=\"\",\"\",'カデット参加申込書（男子）'!E89)","v":""},{"$f":"IF(B25=\"\",\"\",B25&\"・\"&B26)","v":""},{"$f":"IF(C25=C26,C25,C25&\"・\"&C26)","v":""},{"$f":"IF('カデット参加申込書(女子)'!C89=\"\",\"\",'カデット参加申込書(女子)'!C89)","v":""},{"$f":"IF('カデット参加申込書(女子)'!E89=\"\",\"\",'カデット参加申込書(女子)'!E89)","v":""},{"$f":"IF(F25=\"\",\"\",F25&\"・\"&F26)","v":""},{"$f":"IF(G25=G26,G25,G25&\"・\"&G26)","v":""}]
[7,{"$f":"IF('カデット参加申込書（男子）'!C90=\"\",\"\",'カデット参加申込書（男子）'!C90)","v":""},{"$f":"IF('カデット参加申込書（男子）'!E90=\"\",\"\",'カデット参加申込書（男子）'!E90)","v":""},{"$f":"IF(B27=\"\",\"\",B27&\"・\"&B28)","v":""},{"$f":"IF(C27=C28,C27,C27&\"・\"&C28)","v":""},{"$f":"IF('カデット参加申込書(女子)'!C90=\"\",\"\",'カデット参加申込書(女子)'!C90)","v":""},{"$f":"IF('カデット参加申込書(女子)'!E90=\"\",\"\",'カデット参加申込書(女子)'!E90)","v":""},{"$f":"IF(F27=\"\",\"\",F27&\"・\"&F28)","v":""},{"$f":"IF(G27=G28,G27,G27&\"・\"&G28)","v":""}]
[null,{"$f":"IF('カデット参加申込書（男子）'!C91=\"\",\"\",'カデット参加申込書（男子）'!C91)","v":""},{"$f":"IF('カデット参加申込書（男子）'!E91=\"\",\"\",'カデット参加申込書（男子）'!E91)","v":""},{"$f":"IF(B29=\"\",\"\",B29&\"・\"&B30)","v":""},{"$f":"IF(C29=C30,C29,C29&\"・\"&C30)","v":""},{"$f":"IF('カデット参加申込書(女子)'!C91=\"\",\"\",'カデット参加申込書(女子)'!C91)","v":""},{"$f":"IF('カデット参加申込書(女子)'!E91=\"\",\"\",'カデット参加申込書(女子)'!E91)","v":""},{"$f":"IF(F29=\"\",\"\",F29&\"・\"&F30)","v":""},{"$f":"IF(G29=G30,G29,G29&\"・\"&G30)","v":""}]
[8,{"$f":"IF('カデット参加申込書（男子）'!C92=\"\",\"\",'カデット参加申込書（男子）'!C92)","v":""},{"$f":"IF('カデット参加申込書（男子）'!E92=\"\",\"\",'カデット参加申込書（男子）'!E92)","v":""},{"$f":"IF(B31=\"\",\"\",B31&\"・\"&B32)","v":""},{"$f":"IF(C31=C32,C31,C31&\"・\"&C32)","v":""},{"$f":"IF('カデット参加申込書(女子)'!C92=\"\",\"\",'カデット参加申込書(女子)'!C92)","v":""},{"$f":"IF('カデット参加申込書(女子)'!E92=\"\",\"\",'カデット参加申込書(女子)'!E92)","v":""},{"$f":"IF(F31=\"\",\"\",F31&\"・\"&F32)","v":""},{"$f":"IF(G31=G32,G31,G31&\"・\"&G32)","v":""}]
[null,{"$f":"IF('カデット参加申込書（男子）'!C93=\"\",\"\",'カデット参加申込書（男子）'!C93)","v":""},{"$f":"IF('カデット参加申込書（男子）'!E93=\"\",\"\",'カデット参加申込書（男子）'!E93)","v":""},{"$f":"IF(B33=\"\",\"\",B33&\"・\"&B34)","v":""},{"$f":"IF(C33=C34,C33,C33&\"・\"&C34)","v":""},{"$f":"IF('カデット参加申込書(女子)'!C93=\"\",\"\",'カデット参加申込書(女子)'!C93)","v":""},{"$f":"IF('カデット参加申込書(女子)'!E93=\"\",\"\",'カデット参加申込書(女子)'!E93)","v":""},{"$f":"IF(F33=\"\",\"\",F33&\"・\"&F34)","v":""},{"$f":"IF(G33=G34,G33,G33&\"・\"&G34)","v":""}]
[9,{"$f":"IF('カデット参加申込書（男子）'!C94=\"\",\"\",'カデット参加申込書（男子）'!C94)","v":""},{"$f":"IF('カデット参加申込書（男子）'!E94=\"\",\"\",'カデット参加申込書（男子）'!E94)","v":""},{"$f":"IF(B35=\"\",\"\",B35&\"・\"&B36)","v":""},{"$f":"IF(C35=C36,C35,C35&\"・\"&C36)","v":""},{"$f":"IF('カデット参加申込書(女子)'!C94=\"\",\"\",'カデット参加申込書(女子)'!C94)","v":""},{"$f":"IF('カデット参加申込書(女子)'!E94=\"\",\"\",'カデット参加申込書(女子)'!E94)","v":""},{"$f":"IF(F35=\"\",\"\",F35&\"・\"&F36)","v":""},{"$f":"IF(G35=G36,G35,G35&\"・\"&G36)","v":""}]
[null,{"$f":"IF('カデット参加申込書（男子）'!C95=\"\",\"\",'カデット参加申込書（男子）'!C95)","v":""},{"$f":"IF('カデット参加申込書（男子）'!E95=\"\",\"\",'カデット参加申込書（男子）'!E95)","v":""},{"$f":"IF(B37=\"\",\"\",B37&\"・\"&B38)","v":""},{"$f":"IF(C37=C38,C37,C37&\"・\"&C38)","v":""},{"$f":"IF('カデット参加申込書(女子)'!C95=\"\",\"\",'カデット参加申込書(女子)'!C95)","v":""},{"$f":"IF('カデット参加申込書(女子)'!E95=\"\",\"\",'カデット参加申込書(女子)'!E95)","v":""},{"$f":"IF(F37=\"\",\"\",F37&\"・\"&F38)","v":""},{"$f":"IF(G37=G38,G37,G37&\"・\"&G38)","v":""}]
[10,{"$f":"IF('カデット参加申込書（男子）'!C96=\"\",\"\",'カデット参加申込書（男子）'!C96)","v":""},{"$f":"IF('カデット参加申込書（男子）'!E96=\"\",\"\",'カデット参加申込書（男子）'!E96)","v":""},{"$f":"IF(B39=\"\",\"\",B39&\"・\"&B40)","v":""},{"$f":"IF(C39=C40,C39,C39&\"・\"&C40)","v":""},{"$f":"IF('カデット参加申込書(女子)'!C96=\"\",\"\",'カデット参加申込書(女子)'!C96)","v":""},{"$f":"IF('カデット参加申込書(女子)'!E96=\"\",\"\",'カデット参加申込書(女子)'!E96)","v":""},{"$f":"IF(F39=\"\",\"\",F39&\"・\"&F40)","v":""},{"$f":"IF(G39=G40,G39,G39&\"・\"&G40)","v":""}]
[null,{"$f":"IF('カデット参加申込書（男子）'!C97=\"\",\"\",'カデット参加申込書（男子）'!C97)","v":""},{"$f":"IF('カデット参加申込書（男子）'!E97=\"\",\"\",'カデット参加申込書（男子）'!E97)","v":""},{"$f":"IF(B41=\"\",\"\",B41&\"・\"&B42)","v":""},{"$f":"IF(C41=C42,C41,C41&\"・\"&C42)","v":""},{"$f":"IF('カデット参加申込書(女子)'!C97=\"\",\"\",'カデット参加申込書(女子)'!C97)","v":""},{"$f":"IF('カデット参加申込書(女子)'!E97=\"\",\"\",'カデット参加申込書(女子)'!E97)","v":""},{"$f":"IF(F41=\"\",\"\",F41&\"・\"&F42)","v":""},{"$f":"IF(G41=G42,G41,G41&\"・\"&G42)","v":""}]
[11,{"$f":"IF('カデット参加申込書（男子）'!J78=\"\",\"\",'カデット参加申込書（男子）'!J78)","v":""},{"$f":"IF('カデット参加申込書（男子）'!J78=\"\",\"\",'カデット参加申込書（男子）'!J78)","v":""},null,null,{"$f":"IF('カデット参加申込書(女子)'!J78=\"\",\"\",'カデット参加申込書(女子)'!J78)","v":""},{"$f":"IF('カデット参加申込書(女子)'!L78=\"\",\"\",'カデット参加申込書(女子)'!L78)","v":""}]
[null,{"$f":"IF('カデット参加申込書（男子）'!J79=\"\",\"\",'カデット参加申込書（男子）'!J79)","v":""},{"$f":"IF('カデット参加申込書（男子）'!J79=\"\",\"\",'カデット参加申込書（男子）'!J79)","v":""},null,null,{"$f":"IF('カデット参加申込書(女子)'!J79=\"\",\"\",'カデット参加申込書(女子)'!J79)","v":""},{"$f":"IF('カデット参加申込書(女子)'!L79=\"\",\"\",'カデット参加申込書(女子)'!L79)","v":""}]
[12,{"$f":"IF('カデット参加申込書（男子）'!J80=\"\",\"\",'カデット参加申込書（男子）'!J80)","v":""},{"$f":"IF('カデット参加申込書（男子）'!J80=\"\",\"\",'カデット参加申込書（男子）'!J80)","v":""},null,null,{"$f":"IF('カデット参加申込書(女子)'!J80=\"\",\"\",'カデット参加申込書(女子)'!J80)","v":""},{"$f":"IF('カデット参加申込書(女子)'!L80=\"\",\"\",'カデット参加申込書(女子)'!L80)","v":""}]
[null,{"$f":"IF('カデット参加申込書（男子）'!J81=\"\",\"\",'カデット参加申込書（男子）'!J81)","v":""},{"$f":"IF('カデット参加申込書（男子）'!J81=\"\",\"\",'カデット参加申込書（男子）'!J81)","v":""},null,null,{"$f":"IF('カデット参加申込書(女子)'!J81=\"\",\"\",'カデット参加申込書(女子)'!J81)","v":""},{"$f":"IF('カデット参加申込書(女子)'!L81=\"\",\"\",'カデット参加申込書(女子)'!L81)","v":""}]
[13,{"$f":"IF('カデット参加申込書（男子）'!J82=\"\",\"\",'カデット参加申込書（男子）'!J82)","v":""},{"$f":"IF('カデット参加申込書（男子）'!J82=\"\",\"\",'カデット参加申込書（男子）'!J82)","v":""},null,null,{"$f":"IF('カデット参加申込書(女子)'!J82=\"\",\"\",'カデット参加申込書(女子)'!J82)","v":""},{"$f":"IF('カデット参加申込書(女子)'!L82=\"\",\"\",'カデット参加申込書(女子)'!L82)","v":""}]
[null,{"$f":"IF('カデット参加申込書（男子）'!J83=\"\",\"\",'カデット参加申込書（男子）'!J83)","v":""},{"$f":"IF('カデット参加申込書（男子）'!J83=\"\",\"\",'カデット参加申込書（男子）'!J83)","v":""},null,null,{"$f":"IF('カデット参加申込書(女子)'!J83=\"\",\"\",'カデット参加申込書(女子)'!J83)","v":""},{"$f":"IF('カデット参加申込書(女子)'!L83=\"\",\"\",'カデット参加申込書(女子)'!L83)","v":""}]
[14,{"$f":"IF('カデット参加申込書（男子）'!J84=\"\",\"\",'カデット参加申込書（男子）'!J84)","v":""},{"$f":"IF('カデット参加申込書（男子）'!J84=\"\",\"\",'カデット参加申込書（男子）'!J84)","v":""},null,null,{"$f":"IF('カデット参加申込書(女子)'!J84=\"\",\"\",'カデット参加申込書(女子)'!J84)","v":""},{"$f":"IF('カデット参加申込書(女子)'!L84=\"\",\"\",'カデット参加申込書(女子)'!L84)","v":""}]
[null,{"$f":"IF('カデット参加申込書（男子）'!J85=\"\",\"\",'カデット参加申込書（男子）'!J85)","v":""},{"$f":"IF('カデット参加申込書（男子）'!J85=\"\",\"\",'カデット参加申込書（男子）'!J85)","v":""},null,null,{"$f":"IF('カデット参加申込書(女子)'!J85=\"\",\"\",'カデット参加申込書(女子)'!J85)","v":""},{"$f":"IF('カデット参加申込書(女子)'!L85=\"\",\"\",'カデット参加申込書(女子)'!L85)","v":""}]
[15,{"$f":"IF('カデット参加申込書（男子）'!J86=\"\",\"\",'カデット参加申込書（男子）'!J86)","v":""},{"$f":"IF('カデット参加申込書（男子）'!J86=\"\",\"\",'カデット参加申込書（男子）'!J86)","v":""},null,null,{"$f":"IF('カデット参加申込書(女子)'!J86=\"\",\"\",'カデット参加申込書(女子)'!J86)","v":""},{"$f":"IF('カデット参加申込書(女子)'!L86=\"\",\"\",'カデット参加申込書(女子)'!L86)","v":""}]
[null,{"$f":"IF('カデット参加申込書（男子）'!J87=\"\",\"\",'カデット参加申込書（男子）'!J87)","v":""},{"$f":"IF('カデット参加申込書（男子）'!J87=\"\",\"\",'カデット参加申込書（男子）'!J87)","v":""},null,null,{"$f":"IF('カデット参加申込書(女子)'!J87=\"\",\"\",'カデット参加申込書(女子)'!J87)","v":""},{"$f":"IF('カデット参加申込書(女子)'!L87=\"\",\"\",'カデット参加申込書(女子)'!L87)","v":""}]
[16,{"$f":"IF('カデット参加申込書（男子）'!J88=\"\",\"\",'カデット参加申込書（男子）'!J88)","v":""},{"$f":"IF('カデット参加申込書（男子）'!J88=\"\",\"\",'カデット参加申込書（男子）'!J88)","v":""},null,null,{"$f":"IF('カデット参加申込書(女子)'!J88=\"\",\"\",'カデット参加申込書(女子)'!J88)","v":""},{"$f":"IF('カデット参加申込書(女子)'!L88=\"\",\"\",'カデット参加申込書(女子)'!L88)","v":""}]
[null,{"$f":"IF('カデット参加申込書（男子）'!J89=\"\",\"\",'カデット参加申込書（男子）'!J89)","v":""},{"$f":"IF('カデット参加申込書（男子）'!J89=\"\",\"\",'カデット参加申込書（男子）'!J89)","v":""},null,null,{"$f":"IF('カデット参加申込書(女子)'!J89=\"\",\"\",'カデット参加申込書(女子)'!J89)","v":""},{"$f":"IF('カデット参加申込書(女子)'!L89=\"\",\"\",'カデット参加申込書(女子)'!L89)","v":""}]
[17,{"$f":"IF('カデット参加申込書（男子）'!J90=\"\",\"\",'カデット参加申込書（男子）'!J90)","v":""},{"$f":"IF('カデット参加申込書（男子）'!J90=\"\",\"\",'カデット参加申込書（男子）'!J90)","v":""},null,null,{"$f":"IF('カデット参加申込書(女子)'!J90=\"\",\"\",'カデット参加申込書(女子)'!J90)","v":""},{"$f":"IF('カデット参加申込書(女子)'!L90=\"\",\"\",'カデット参加申込書(女子)'!L90)","v":""}]
[null,{"$f":"IF('カデット参加申込書（男子）'!J91=\"\",\"\",'カデット参加申込書（男子）'!J91)","v":""},{"$f":"IF('カデット参加申込書（男子）'!J91=\"\",\"\",'カデット参加申込書（男子）'!J91)","v":""},null,null,{"$f":"IF('カデット参加申込書(女子)'!J91=\"\",\"\",'カデット参加申込書(女子)'!J91)","v":""},{"$f":"IF('カデット参加申込書(女子)'!L91=\"\",\"\",'カデット参加申込書(女子)'!L91)","v":""}]
[18,{"$f":"IF('カデット参加申込書（男子）'!J92=\"\",\"\",'カデット参加申込書（男子）'!J92)","v":""},{"$f":"IF('カデット参加申込書（男子）'!J92=\"\",\"\",'カデット参加申込書（男子）'!J92)","v":""},null,null,{"$f":"IF('カデット参加申込書(女子)'!J92=\"\",\"\",'カデット参加申込書(女子)'!J92)","v":""},{"$f":"IF('カデット参加申込書(女子)'!L92=\"\",\"\",'カデット参加申込書(女子)'!L92)","v":""}]
[null,{"$f":"IF('カデット参加申込書（男子）'!J93=\"\",\"\",'カデット参加申込書（男子）'!J93)","v":""},{"$f":"IF('カデット参加申込書（男子）'!J93=\"\",\"\",'カデット参加申込書（男子）'!J93)","v":""},null,null,{"$f":"IF('カデット参加申込書(女子)'!J93=\"\",\"\",'カデット参加申込書(女子)'!J93)","v":""},{"$f":"IF('カデット参加申込書(女子)'!L93=\"\",\"\",'カデット参加申込書(女子)'!L93)","v":""}]
[19,{"$f":"IF('カデット参加申込書（男子）'!J94=\"\",\"\",'カデット参加申込書（男子）'!J94)","v":""},{"$f":"IF('カデット参加申込書（男子）'!J94=\"\",\"\",'カデット参加申込書（男子）'!J94)","v":""},null,null,{"$f":"IF('カデット参加申込書(女子)'!J94=\"\",\"\",'カデット参加申込書(女子)'!J94)","v":""},{"$f":"IF('カデット参加申込書(女子)'!L94=\"\",\"\",'カデット参加申込書(女子)'!L94)","v":""}]
[null,{"$f":"IF('カデット参加申込書（男子）'!J95=\"\",\"\",'カデット参加申込書（男子）'!J95)","v":""},{"$f":"IF('カデット参加申込書（男子）'!J95=\"\",\"\",'カデット参加申込書（男子）'!J95)","v":""},null,null,{"$f":"IF('カデット参加申込書(女子)'!J95=\"\",\"\",'カデット参加申込書(女子)'!J95)","v":""},{"$f":"IF('カデット参加申込書(女子)'!L95=\"\",\"\",'カデット参加申込書(女子)'!L95)","v":""}]
[20,{"$f":"IF('カデット参加申込書（男子）'!J96=\"\",\"\",'カデット参加申込書（男子）'!J96)","v":""},{"$f":"IF('カデット参加申込書（男子）'!J96=\"\",\"\",'カデット参加申込書（男子）'!J96)","v":""},null,null,{"$f":"IF('カデット参加申込書(女子)'!J96=\"\",\"\",'カデット参加申込書(女子)'!J96)","v":""},{"$f":"IF('カデット参加申込書(女子)'!L96=\"\",\"\",'カデット参加申込書(女子)'!L96)","v":""}]
[null,{"$f":"IF('カデット参加申込書（男子）'!J97=\"\",\"\",'カデット参加申込書（男子）'!J97)","v":""},{"$f":"IF('カデット参加申込書（男子）'!J97=\"\",\"\",'カデット参加申込書（男子）'!J97)","v":""},null,null,{"$f":"IF('カデット参加申込書(女子)'!J97=\"\",\"\",'カデット参加申込書(女子)'!J97)","v":""},{"$f":"IF('カデット参加申込書(女子)'!L97=\"\",\"\",'カデット参加申込書(女子)'!L97)","v":""}]