{"text_format":"1","workbook":"xlsx","n_sheets":13,"sheets":["必ずお読みください！","入力シート","男子団体戦","女子団体戦","男子個人戦","女子個人戦","男女年代別シングルス","卓球協会専用（団体）","卓球協会専用（W）","卓球協会専用（男子S）","卓球協会専用（女子S）","卓球協会専用（参加料データ）","卓球協会専用（データ消去）"],"not_rendered":{"charts":0,"images":0,"macros":1,"external_links":0,"defined_names":1,"comments":1,"pivot_tables":0},"unopened":[],"bounds":{"document_bytes":16777216,"sheet_cells":100000,"rows_first":2000,"rows_last":500,"rows_between":2000,"halvings":0,"cell_chars":16384,"cell_head_chars":4096},"cells_cut":0,"cells_raw":0,"read":"whole","date_system":"1900"}

{"sheet":"必ずお読みください！","index":0,"n_rows":25,"n_cols":6,"rows_kept":25,"cut":false,"hidden":false,"merged":[]}
[]
[null,"①初めに，入力シートに必要事項を入力してください。"]
[null,null,"←この色のセルにのみ入力をしてください。"]
[null,null,"※この色のセル以外は選択できなくなっています。"]
[null,null,"（使いづらければ，校閲→シートの保護の解除をクリックしてください。解除PASS「hakodate」）"]
[null,"②次に，団体戦，個人戦，各シートに入力してください。"]
[null,"※団体戦は必ずカテゴリー選択で，プルダウンメニューより「一般」「大学・高校」「小中学生」の中から選択してください。"]
[null,"※卓球協会専用シートには何も入力しないでください。"]
[null,"※姓名欄内ではスペースを入れないでください。スペースは入らない設定になっています。"]
[]
[]
[null,null,"（例　団体戦）"]
[null,null,"カテゴリー選択→","プルダウンメニューから選択"]
[null,null,"チーム名","函館大妻A"]
[null,null,"選手１","菊　地　浩　太"]
[null,null,"選手２","堤　慎一郎"]
[]
[]
[null,"（例　個人戦）"]
[null,null,"姓","名","所属（略称可）","生年月日"]
[null,"（例）","菊地","浩太","函館大妻","H11.9.27"]
[null,1,"高　橋","正 太 郎","函館大妻","H12.3.24"]
[null,2]
[null,3]
[null,4]

{"sheet":"入力シート","index":1,"n_rows":39,"n_cols":15,"rows_kept":39,"cut":false,"hidden":false,"merged":[[1,1,1,11],[7,3,7,9],[4,10,6,11],[15,5,15,6],[14,5,14,6],[4,14,7,17],[12,5,12,6],[11,5,11,6],[5,3,5,9],[6,3,6,8],[36,2,36,7],[26,2,26,10],[28,2,28,8],[10,8,10,10],[10,3,10,6],[18,5,18,6],[13,5,13,6],[30,3,30,7],[21,8,21,9],[20,5,20,6],[19,5,19,6],[17,5,17,6],[16,5,16,6]]}
[]
[null,"第１１回函館オープン卓球大会（ＶＩＣＴＡＳ杯）"]
[null,null,null,null,null,null,null,null,null,null,null,"※各種目の申込書に同封してください。"]
[]
[null,null,"申込日","令和",null,"年",null,"月",null,"日","メール，郵送，\n参加料，\nいずれも\n〆切厳守",null,null,null,"　「申込日」が「領収書の日付」になります。\n\n例） 大会当日の日付の領収書が必要な方は，左「申込日」欄に大会の日にちを入力してください。"]
[null,null,"加盟団体名"]
[null,null,"申込責任者",null,null,null,null,null,null,"㊞"]
[null,null,"連絡先電話番号"]
[]
[null,null,"＜参加料明細＞","※自動で計算されます。"]
[null,null,null,"男子",null,null,null,null,"女子"]
[null,null,"団体（一般）",{"$f":"+男子団体戦!E26","v":0},"チーム",{"$f":"+D12*5000","v":0},null,null,{"$f":"+女子団体戦!E26","v":0},"チーム",{"$f":"+I12*5000","v":0}]
[null,null,"団体（大学・高校）",{"$f":"+男子団体戦!E27","v":0},"チーム",{"$f":"+D13*4000","v":0},null,null,{"$f":"+女子団体戦!E27","v":0},"チーム",{"$f":"+I13*4000","v":0}]
[null,null,"団体（小中学生）",{"$f":"+男子団体戦!E28","v":0},"チーム",{"$f":"+D14*3000","v":0},null,null,{"$f":"+女子団体戦!E28","v":0},"チーム",{"$f":"+I14*3000","v":0}]
[null,null,"ダブルス",{"$f":"+COUNTA(男子個人戦!C10,男子個人戦!C12,男子個人戦!C14,男子個人戦!C16,男子個人戦!C18,男子個人戦!C20,男子個人戦!C22,男子個人戦!C24)","v":0},"組",{"$f":"+D15*2000","v":0},null,null,{"$f":"+COUNTA(女子個人戦!C10,女子個人戦!C12,女子個人戦!C14,女子個人戦!C16,女子個人戦!C18,女子個人戦!C20,女子個人戦!C22,女子個人戦!C24)","v":0},"組",{"$f":"+I15*2000","v":0}]
[null,null,"シングルスA",{"$f":"+COUNTA(男子個人戦!H10:H25)","v":0},"人",{"$f":"+D16*1000","v":0},null,null,{"$f":"+COUNTA(女子個人戦!H10:H25)","v":0},"人",{"$f":"+I16*1000","v":0}]
[null,null,"シングルスB",{"$f":"+COUNTA(男子個人戦!M10:M25)","v":0},"人",{"$f":"+D17*600","v":0},null,null,{"$f":"+COUNTA(女子個人戦!M10:M25)","v":0},"人",{"$f":"+I17*600","v":0}]
[null,null,"シングルス40代",{"$f":"+COUNTA(男女年代別シングルス!C9:C13)","v":0},"人",{"$f":"+D18*1000","v":0},null,null,{"$f":"+COUNTA(男女年代別シングルス!I9:I13)","v":0},"人",{"$f":"+I18*1000","v":0}]
[null,null,"シングルス50代",{"$f":"+COUNTA(男女年代別シングルス!C16:C20)","v":0},"人",{"$f":"+D19*1000","v":0},null,null,{"$f":"+COUNTA(男女年代別シングルス!I16:I20)","v":0},"人",{"$f":"+I19*1000","v":0}]
[null,null,"シングルス60代以上",{"$f":"+COUNTA(男女年代別シングルス!C23:C27)","v":0},"人",{"$f":"+D20*1000","v":0},null,null,{"$f":"+COUNTA(男女年代別シングルス!I23:I27)","v":0},"人",{"$f":"+I20*1000","v":0}]
[null,null,"小　計",null,null,{"$f":"+SUM(F12:G20)","v":0},null,null,null,null,{"$f":"+SUM(K12:K20)","v":0}]
[null,null,null,null,null,null,null,"合計",{"$f":"+F21+K21","v":0},null,"円"]
[]
[]
[]
[]
[null,null,"領収書"]
[]
[null,null,{"$f":"+\"　\"&D6&\"　様　\"","v":"　　様　"}]
[]
[null,null,null,{"$f":"+I22","v":0},null,null,null,null,"也"]
[]
[null,null,null,null,null,null,null,null,null,{"$f":"+\"但し，\"&B2&\"参加料として\"","v":"但し，第１１回函館オープン卓球大会（ＶＩＣＴＡＳ杯）参加料として"}]
[]
[null,null,null,null,null,null,null,null,null,null,"上記金額正に領収いたしました。"]
[]
[null,null,{"$f":"+D5&E5&F5&G5&H5&I5&J5","v":"令和年月日"}]
[]
[null,null,null,null,null,null,null,null,null,"　函館卓球協会 　  　　　印　　."]

{"sheet":"男子団体戦","index":2,"n_rows":28,"n_cols":9,"rows_kept":28,"cut":false,"hidden":false,"merged":[[3,5,3,6],[2,5,2,6],[1,1,1,8]]}
[]
[null,{"$f":"+入力シート!B2&\"申込書（男子団体戦）\"","v":"第１１回函館オープン卓球大会（ＶＩＣＴＡＳ杯）申込書（男子団体戦）"}]
[null,"男　子",null,null,"申込日",{"$f":"IF(入力シート!E5=\"\",\"\",+\"令和\"&入力シート!E5&\"年\"&入力シート!G5&\"月\"&入力シート!I5&\"日\")","v":""},null,"チーム名",{"$f":"IF(+入力シート!D6=\"\",\"\",+入力シート!D6)","v":""}]
[null,null,null,null,"申込責任者",{"$f":"IF(+入力シート!D7=\"\",\"\",+入力シート!D7)","v":""},null,"電話番号",{"$f":"IF(+入力シート!D8=\"\",\"\",+入力シート!D8)","v":""}]
[]
[null,"カテゴリー選択→","プルダウンメニューから選択",null,"カテゴリー選択→","プルダウンメニューから選択",null,"カテゴリー選択→","プルダウンメニューから選択"]
[null,"チーム名",null,null,"チーム名",null,null,"チーム名"]
[null,"選手１",null,null,"選手１",null,null,"選手１"]
[null,"選手２",null,null,"選手２",null,null,"選手２"]
[null,"選手３",null,null,"選手３",null,null,"選手３"]
[null,"選手４",null,null,"選手４",null,null,"選手４"]
[null,"選手５",null,null,"選手５",null,null,"選手５"]
[null,"選手６",null,null,"選手６",null,null,"選手６"]
[]
[null,"カテゴリー選択→","プルダウンメニューから選択",null,"カテゴリー選択→","プルダウンメニューから選択",null,"カテゴリー選択→","プルダウンメニューから選択"]
[null,"チーム名",null,null,"チーム名",null,null,"チーム名"]
[null,"選手１",null,null,"選手１",null,null,"選手１"]
[null,"選手２",null,null,"選手２",null,null,"選手２"]
[null,"選手３",null,null,"選手３",null,null,"選手３"]
[null,"選手４",null,null,"選手４",null,null,"選手４"]
[null,"選手５",null,null,"選手５",null,null,"選手５"]
[null,"選手６",null,null,"選手６",null,null,"選手６"]
[]
[]
[null,null,"プルダウンメニューから選択"]
[null,null,"一般",null,{"$f":"+COUNTIF($B$6:I6,C26)+COUNTIF($B$15:I15,C26)","v":0}]
[null,null,"大学・高校",null,{"$f":"+COUNTIF($B$6:I7,C27)+COUNTIF($B$15:I16,C27)","v":0}]
[null,null,"小中学生",null,{"$f":"+COUNTIF($B$6:I8,C28)+COUNTIF($B$15:I17,C28)","v":0}]

{"sheet":"女子団体戦","index":3,"n_rows":28,"n_cols":9,"rows_kept":28,"cut":false,"hidden":false,"merged":[[1,1,1,8],[2,5,2,6],[3,5,3,6]]}
[]
[null,{"$f":"+入力シート!B2&\"申込書（女子団体戦）\"","v":"第１１回函館オープン卓球大会（ＶＩＣＴＡＳ杯）申込書（女子団体戦）"}]
[null,"女　子",null,null,"申込日",{"$f":"IF(入力シート!E5=\"\",\"\",+\"令和\"&入力シート!E5&\"年\"&入力シート!G5&\"月\"&入力シート!I5&\"日\")","v":""},null,"チーム名",{"$f":"IF(+入力シート!D6=\"\",\"\",+入力シート!D6)","v":""}]
[null,null,null,null,"申込責任者",{"$f":"IF(+入力シート!D7=\"\",\"\",+入力シート!D7)","v":""},null,"電話番号",{"$f":"IF(+入力シート!D8=\"\",\"\",+入力シート!D8)","v":""}]
[]
[null,"カテゴリー選択→","プルダウンメニューから選択",null,"カテゴリー選択→","プルダウンメニューから選択",null,"カテゴリー選択→","プルダウンメニューから選択"]
[null,"チーム名",null,null,"チーム名",null,null,"チーム名"]
[null,"選手１",null,null,"選手１",null,null,"選手１"]
[null,"選手２",null,null,"選手２",null,null,"選手２"]
[null,"選手３",null,null,"選手３",null,null,"選手３"]
[null,"選手４",null,null,"選手４",null,null,"選手４"]
[null,"選手５",null,null,"選手５",null,null,"選手５"]
[null,"選手６",null,null,"選手６",null,null,"選手６"]
[]
[null,"カテゴリー選択→","プルダウンメニューから選択",null,"カテゴリー選択→","プルダウンメニューから選択",null,"カテゴリー選択→","プルダウンメニューから選択"]
[null,"チーム名",null,null,"チーム名",null,null,"チーム名"]
[null,"選手１",null,null,"選手１",null,null,"選手１"]
[null,"選手２",null,null,"選手２",null,null,"選手２"]
[null,"選手３",null,null,"選手３",null,null,"選手３"]
[null,"選手４",null,null,"選手４",null,null,"選手４"]
[null,"選手５",null,null,"選手５",null,null,"選手５"]
[null,"選手６",null,null,"選手６",null,null,"選手６"]
[]
[]
[null,null,"プルダウンメニューから選択"]
[null,null,"一般",null,{"$f":"+COUNTIF($B$6:I6,C26)+COUNTIF($B$15:I15,C26)","v":0}]
[null,null,"大学・高校",null,{"$f":"+COUNTIF($B$6:I7,C27)+COUNTIF($B$15:I16,C27)","v":0}]
[null,null,"小中学生",null,{"$f":"+COUNTIF($B$6:I8,C28)+COUNTIF($B$15:I17,C28)","v":0}]

{"sheet":"男子個人戦","index":4,"n_rows":25,"n_cols":15,"rows_kept":25,"cut":false,"hidden":false,"merged":[[2,13,2,14],[2,6,2,7],[1,1,1,14],[9,1,10,1],[11,1,12,1],[7,6,8,6],[7,11,8,11],[3,13,3,14],[2,10,2,12],[3,10,3,12],[3,1,3,5],[2,8,2,9],[3,8,3,9],[23,1,24,1],[17,1,18,1],[21,1,22,1],[3,6,3,7],[7,1,8,1],[19,1,20,1],[15,1,16,1],[13,1,14,1]]}
[]
[null,{"$f":"+入力シート!B2&\"申込書（男子個人戦）\"","v":"第１１回函館オープン卓球大会（ＶＩＣＴＡＳ杯）申込書（男子個人戦）"}]
[null,null,null,null,null,null,"申込日",null,{"$f":"IF(入力シート!E5=\"\",\"\",+\"令和\"&入力シート!E5&\"年\"&入力シート!G5&\"月\"&入力シート!I5&\"日\")","v":""},null,"チーム名",null,null,{"$f":"IF(+入力シート!D6=\"\",\"\",+入力シート!D6)","v":""}]
[null,"※ランキング順（上から強い順）に入力してください。",null,null,null,null,"申込責任者",null,{"$f":"IF(+入力シート!D7=\"\",\"\",+入力シート!D7)","v":""},null,"電話番号",null,null,{"$f":"IF(+入力シート!D8=\"\",\"\",+入力シート!D8)","v":""}]
[]
[null,"＜男子ダブルス＞",null,null,null,null,"＜男子シングルスA＞",null,null,null,null,"＜男子シングルスB＞"]
[null,null,"姓","名","所属（略称可）",null,null,"姓","名","所属（略称可）",null,null,"姓","名","所属（略称可）"]
[null,"（例）","菊地","浩太","大妻クラブ",null,"（例）","菊地","桃子","函館大妻",null,"（例）","菊地","桃子","函館大妻"]
[null,null,"高橋","正","高橋クラブ",null,null,"佐々木","陽子","SYクラブ",null,null,"佐々木","陽子","SYクラブ"]
[null,1,null,null,null,null,1,null,null,null,null,1]
[null,null,null,null,null,null,2,null,null,null,null,2]
[null,2,null,null,null,null,3,null,null,null,null,3]
[null,null,null,null,null,null,4,null,null,null,null,4]
[null,3,null,null,null,null,5,null,null,null,null,5]
[null,null,null,null,null,null,6,null,null,null,null,6]
[null,4,null,null,null,null,7,null,null,null,null,7]
[null,null,null,null,null,null,8,null,null,null,null,8]
[null,5,null,null,null,null,9,null,null,null,null,9]
[null,null,null,null,null,null,10,null,null,null,null,10]
[null,6,null,null,null,null,11,null,null,null,null,11]
[null,null,null,null,null,null,12,null,null,null,null,12]
[null,7,null,null,null,null,13,null,null,null,null,13]
[null,null,null,null,null,null,14,null,null,null,null,14]
[null,8,null,null,null,null,15,null,null,null,null,15]
[null,null,null,null,null,null,16,null,null,null,null,16]

{"sheet":"女子個人戦","index":5,"n_rows":25,"n_cols":15,"rows_kept":25,"cut":false,"hidden":false,"merged":[[23,1,24,1],[7,1,8,1],[9,1,10,1],[11,1,12,1],[13,1,14,1],[21,1,22,1],[15,1,16,1],[17,1,18,1],[3,10,3,12],[19,1,20,1],[1,1,1,14],[2,6,2,7],[2,8,2,9],[2,10,2,12],[2,13,2,14],[7,11,8,11],[3,6,3,7],[3,13,3,14],[3,1,3,5],[3,8,3,9],[7,6,8,6]]}
[]
[null,{"$f":"+入力シート!B2&\"申込書（女子個人戦）\"","v":"第１１回函館オープン卓球大会（ＶＩＣＴＡＳ杯）申込書（女子個人戦）"}]
[null,null,null,null,null,null,"申込日",null,{"$f":"IF(入力シート!E5=\"\",\"\",+\"令和\"&入力シート!E5&\"年\"&入力シート!G5&\"月\"&入力シート!I5&\"日\")","v":""},null,"チーム名",null,null,{"$f":"IF(+入力シート!D7=\"\",\"\",+入力シート!D6)","v":""}]
[null,"※ランキング順（上から強い順）に入力してください。",null,null,null,null,"申込責任者",null,{"$f":"IF(+入力シート!D7=\"\",\"\",+入力シート!D7)","v":""},null,"電話番号",null,null,{"$f":"IF(+入力シート!D8=\"\",\"\",+入力シート!D8)","v":""}]
[]
[null,"＜女子ダブルス＞",null,null,null,null,"＜女子シングルスA＞",null,null,null,null,"＜女子シングルスB＞"]
[null,null,"姓","名","所属（略称可）",null,null,"姓","名","所属（略称可）",null,null,"姓","名","所属（略称可）"]
[null,"（例）","菊地","浩太","大妻クラブ",null,"（例）","菊地","桃子","函館大妻",null,"（例）","菊地","桃子","函館大妻"]
[null,null,"高橋","正","高橋クラブ",null,null,"佐々木","陽子","SYクラブ",null,null,"佐々木","陽子","SYクラブ"]
[null,1,null,null,null,null,1,null,null,null,null,1]
[null,null,null,null,null,null,2,null,null,null,null,2]
[null,2,null,null,null,null,3,null,null,null,null,3]
[null,null,null,null,null,null,4,null,null,null,null,4]
[null,3,null,null,null,null,5,null,null,null,null,5]
[null,null,null,null,null,null,6,null,null,null,null,6]
[null,4,null,null,null,null,7,null,null,null,null,7]
[null,null,null,null,null,null,8,null,null,null,null,8]
[null,5,null,null,null,null,9,null,null,null,null,9]
[null,null,null,null,null,null,10,null,null,null,null,10]
[null,6,null,null,null,null,11,null,null,null,null,11]
[null,null,null,null,null,null,12,null,null,null,null,12]
[null,7,null,null,null,null,13,null,null,null,null,13]
[null,null,null,null,null,null,14,null,null,null,null,14]
[null,8,null,null,null,null,15,null,null,null,null,15]
[null,null,null,null,null,null,16,null,null,null,null,16]

{"sheet":"男女年代別シングルス","index":6,"n_rows":27,"n_cols":12,"rows_kept":27,"cut":false,"hidden":false,"merged":[[2,5,2,7],[3,5,3,7],[1,1,1,11],[2,8,2,9],[2,10,2,11],[3,8,3,9],[3,10,3,11],[2,1,3,3]]}
[]
[null,{"$f":"+入力シート!B2&\"申込書（男女年代別）\"","v":"第１１回函館オープン卓球大会（ＶＩＣＴＡＳ杯）申込書（男女年代別）"}]
[null,"※ランキング順（上から強い順）に入力してください。",null,null,"申込日",{"$f":"IF(入力シート!E5=\"\",\"\",+\"令和\"&入力シート!E5&\"年\"&入力シート!G5&\"月\"&入力シート!I5&\"日\")","v":""},null,null,"チーム名",null,{"$f":"IF(+入力シート!D6=\"\",\"\",+入力シート!D6)","v":""}]
[null,null,null,null,"申込責任者",{"$f":"IF(+入力シート!D7=\"\",\"\",+入力シート!D7)","v":""},null,null,"電話番号",null,{"$f":"IF(+入力シート!D8=\"\",\"\",+入力シート!D8)","v":""}]
[]
[null,"＜男子４０代＞",null,null,null,null,null,"＜女子４０代＞"]
[null,null,"姓","名","所属（略称可）","生年月日",null,null,"姓","名","所属（略称可）","生年月日"]
[null,"（例）","佐藤","正太郎","函館大妻","S48.9.27",null,"（例）","菊地","桃子","函館大妻","S48.9.27"]
[null,1,null,null,null,null,null,1]
[null,2,null,null,null,null,null,2]
[null,3,null,null,null,null,null,3]
[null,4,null,null,null,null,null,4]
[null,5,null,null,null,null,null,5]
[null,"＜男子５０代＞",null,null,null,null,null,"＜女子５０代＞"]
[null,null,"姓","名","所属（略称可）","生年月日",null,null,"姓","名","所属（略称可）","生年月日"]
[null,1,null,null,null,null,null,1]
[null,2,null,null,null,null,null,2]
[null,3,null,null,null,null,null,3]
[null,4,null,null,null,null,null,4]
[null,5,null,null,null,null,null,5]
[null,"＜男子６０代＞",null,null,null,null,null,"＜女子６０代＞"]
[null,null,"姓","名","所属（略称可）","生年月日",null,null,"姓","名","所属（略称可）","生年月日"]
[null,1,null,null,null,null,null,1]
[null,2,null,null,null,null,null,2]
[null,3,null,null,null,null,null,3]
[null,4,null,null,null,null,null,4]
[null,5,null,null,null,null,null,5]

{"sheet":"卓球協会専用（団体）","index":7,"n_rows":8,"n_cols":3,"rows_kept":8,"cut":false,"hidden":false,"merged":[]}
[]
[null,"男子団体","女子団体"]
[null,{"$f":"+男子団体戦!C7","v":0},{"$f":"+女子団体戦!C7","v":0}]
[null,{"$f":"+男子団体戦!F7","v":0},{"$f":"+女子団体戦!F7","v":0}]
[null,{"$f":"+男子団体戦!I7","v":0},{"$f":"+女子団体戦!I7","v":0}]
[null,{"$f":"+男子団体戦!C16","v":0},{"$f":"+女子団体戦!C16","v":0}]
[null,{"$f":"+男子団体戦!F16","v":0},{"$f":"+女子団体戦!F16","v":0}]
[null,{"$f":"+男子団体戦!I16","v":0},{"$f":"+女子団体戦!I16","v":0}]

{"sheet":"卓球協会専用（W）","index":8,"n_rows":39,"n_cols":15,"rows_kept":39,"cut":false,"hidden":false,"merged":[[1,3,1,10],[2,3,2,5],[2,6,2,8]]}
[]
[null,null,null,"※注意！！このシートには何も入力しないでください"]
[null,null,null,"加盟団体名",null,null,{"$f":"+入力シート!D6","v":0}]
[null,null,null,null,null,null,null,null,null,"同一姓の場合はこの列（Ｊ）で名の頭文字を入れる↓"]
[null,null,"重複","男子ダブルス",null,null,"所属"]
[null,null,{"$f":"IF(D6=0,\"\",+COUNTIF($D$6:$D$21,D6))","v":""},{"$f":"+男子個人戦!C10","v":0},{"$f":"+男子個人戦!D10","v":0},{"$f":"+D6&\"・\"&D7","v":"0・0"},{"$f":"+IF(男子個人戦!E10=男子個人戦!E11,男子個人戦!E10,男子個人戦!E10&\"・\"&男子個人戦!E11)","v":0},null,0,"0・0",null,"ドローデータ貼り付け用"]
[null,null,"",{"$f":"+男子個人戦!C11","v":0},{"$f":"+男子個人戦!D11","v":0},null,null,null,null,null,null,"男子ダブルス",null,"女子ダブルス"]
[null,null,"",{"$f":"+男子個人戦!C12","v":0},{"$f":"+男子個人戦!D12","v":0},{"$f":"+D8&\"・\"&D9","v":"0・0"},{"$f":"+IF(男子個人戦!E12=男子個人戦!E13,男子個人戦!E12,男子個人戦!E12&\"・\"&男子個人戦!E13)","v":0},null,0,"0・0",null,{"$f":"+I6","v":0},{"$f":"+J6","v":"0・0"},{"$f":"+I24","v":"大妻クラブ"},{"$f":"+J24","v":"佐藤・佐藤"}]
[null,null,"",{"$f":"+男子個人戦!C13","v":0},{"$f":"+男子個人戦!D13","v":0},null,null,null,null,null,null,{"$f":"+I8","v":0},{"$f":"+J8","v":"0・0"},{"$f":"+I26","v":0},{"$f":"+J26","v":"0・0"}]
[null,null,"",{"$f":"+男子個人戦!C14","v":0},{"$f":"+男子個人戦!D14","v":0},"0・0",{"$f":"+IF(男子個人戦!E14=男子個人戦!E15,男子個人戦!E14,男子個人戦!E14&\"・\"&男子個人戦!E15)","v":0},null,0,"0・0",null,{"$f":"+I10","v":0},{"$f":"+J10","v":"0・0"},{"$f":"+I28","v":0},{"$f":"+J28","v":"0・0"}]
[null,null,"",{"$f":"+男子個人戦!C15","v":0},{"$f":"+男子個人戦!D15","v":0},null,null,null,null,null,null,{"$f":"+I12","v":0},{"$f":"+J12","v":"0・0"},{"$f":"+I30","v":0},{"$f":"+J30","v":"0・0"}]
[null,null,"",{"$f":"+男子個人戦!C16","v":0},{"$f":"+男子個人戦!D16","v":0},"0・0",{"$f":"+IF(男子個人戦!E16=男子個人戦!E17,男子個人戦!E16,男子個人戦!E16&\"・\"&男子個人戦!E17)","v":0},null,0,"0・0",null,{"$f":"+I14","v":0},{"$f":"+J14","v":"0・0"},{"$f":"+I32","v":0},{"$f":"+J32","v":"0・0"}]
[null,null,"",{"$f":"+男子個人戦!C17","v":0},{"$f":"+男子個人戦!D17","v":0},null,null,null,null,null,null,{"$f":"+I16","v":0},{"$f":"+J16","v":"0・0"},{"$f":"+I34","v":0},{"$f":"+J34","v":"0・0"}]
[null,null,"",{"$f":"+男子個人戦!C18","v":0},{"$f":"+男子個人戦!D18","v":0},"0・0",{"$f":"+IF(男子個人戦!E18=男子個人戦!E19,男子個人戦!E18,男子個人戦!E18&\"・\"&男子個人戦!E19)","v":0},null,0,"0・0",null,{"$f":"+I18","v":0},{"$f":"+J18","v":"0・0"},{"$f":"+I36","v":0},{"$f":"+J36","v":"0・0"}]
[null,null,"",{"$f":"+男子個人戦!C19","v":0},{"$f":"+男子個人戦!D19","v":0},null,null,null,null,null,null,{"$f":"+I20","v":0},{"$f":"+J20","v":"0・0"},{"$f":"+I38","v":0},{"$f":"+J38","v":"0・0"}]
[null,null,"",{"$f":"+男子個人戦!C20","v":0},{"$f":"+男子個人戦!D20","v":0},"0・0",{"$f":"+IF(男子個人戦!E20=男子個人戦!E21,男子個人戦!E20,男子個人戦!E20&\"・\"&男子個人戦!E21)","v":0},null,0,"0・0"]
[null,null,"",{"$f":"+男子個人戦!C21","v":0},{"$f":"+男子個人戦!D21","v":0}]
[null,null,"",{"$f":"+男子個人戦!C22","v":0},{"$f":"+男子個人戦!D22","v":0},"0・0",{"$f":"+IF(男子個人戦!E22=男子個人戦!E23,男子個人戦!E22,男子個人戦!E22&\"・\"&男子個人戦!E23)","v":0},null,0,"0・0"]
[null,null,"",{"$f":"+男子個人戦!C23","v":0},{"$f":"+男子個人戦!D23","v":0}]
[null,null,"",{"$f":"+男子個人戦!C24","v":0},{"$f":"+男子個人戦!D24","v":0},"0・0",{"$f":"+IF(男子個人戦!E24=男子個人戦!E25,男子個人戦!E24,男子個人戦!E24&\"・\"&男子個人戦!E25)","v":0},null,0,"0・0"]
[null,null,"",{"$f":"+男子個人戦!C25","v":0},{"$f":"+男子個人戦!D25","v":0}]
[]
[null,null,"重複","女子ダブルス"]
[null,null,{"$f":"IF(D24=0,\"\",+COUNTIF($D$24:$D$39,D24))","v":""},{"$f":"+女子個人戦!C10","v":0},{"$f":"+女子個人戦!D10","v":0},{"$f":"+D24&\"・\"&D25","v":"0・0"},{"$f":"+IF(女子個人戦!E10=女子個人戦!E11,女子個人戦!E10,女子個人戦!E10&\"・\"&女子個人戦!E11)","v":0},null,"大妻クラブ","佐藤・佐藤"]
[null,null,{"$f":"IF(D25=0,\"\",+COUNTIF($D$24:$D$39,D25))","v":""},{"$f":"+女子個人戦!C11","v":0},{"$f":"+女子個人戦!D11","v":0}]
[null,null,"",{"$f":"+女子個人戦!C12","v":0},{"$f":"+女子個人戦!D12","v":0},{"$f":"+D26&\"・\"&D27","v":"0・0"},{"$f":"+IF(女子個人戦!E12=女子個人戦!E13,女子個人戦!E12,女子個人戦!E12&\"・\"&女子個人戦!E13)","v":0},null,0,"0・0"]
[null,null,"",{"$f":"+女子個人戦!C13","v":0},{"$f":"+女子個人戦!D13","v":0}]
[null,null,"",{"$f":"+女子個人戦!C14","v":0},{"$f":"+女子個人戦!D14","v":0},"0・0",{"$f":"+IF(女子個人戦!E14=女子個人戦!E15,女子個人戦!E14,女子個人戦!E14&\"・\"&女子個人戦!E15)","v":0},null,0,"0・0"]
[null,null,"",{"$f":"+女子個人戦!C15","v":0},{"$f":"+女子個人戦!D15","v":0}]
[null,null,"",{"$f":"+女子個人戦!C16","v":0},{"$f":"+女子個人戦!D16","v":0},"0・0",{"$f":"+IF(女子個人戦!E16=女子個人戦!E17,女子個人戦!E16,女子個人戦!E16&\"・\"&女子個人戦!E17)","v":0},null,0,"0・0"]
[null,null,"",{"$f":"+女子個人戦!C17","v":0},{"$f":"+女子個人戦!D17","v":0}]
[null,null,"",{"$f":"+女子個人戦!C18","v":0},{"$f":"+女子個人戦!D18","v":0},"0・0",{"$f":"+IF(女子個人戦!E18=女子個人戦!E19,女子個人戦!E18,女子個人戦!E18&\"・\"&女子個人戦!E19)","v":0},null,0,"0・0"]
[null,null,"",{"$f":"+女子個人戦!C19","v":0},{"$f":"+女子個人戦!D19","v":0}]
[null,null,"",{"$f":"+女子個人戦!C20","v":0},{"$f":"+女子個人戦!D20","v":0},"0・0",{"$f":"+IF(女子個人戦!E20=女子個人戦!E21,女子個人戦!E20,女子個人戦!E20&\"・\"&女子個人戦!E21)","v":0},null,0,"0・0"]
[null,null,"",{"$f":"+女子個人戦!C21","v":0},{"$f":"+女子個人戦!D21","v":0}]
[null,null,"",{"$f":"+女子個人戦!C22","v":0},{"$f":"+女子個人戦!D22","v":0},"0・0",{"$f":"+IF(女子個人戦!E22=女子個人戦!E23,女子個人戦!E22,女子個人戦!E22&\"・\"&女子個人戦!E23)","v":0},null,0,"0・0"]
[null,null,"",{"$f":"+女子個人戦!C23","v":0},{"$f":"+女子個人戦!D23","v":0}]
[null,null,"",{"$f":"+女子個人戦!C24","v":0},{"$f":"+女子個人戦!D24","v":0},"0・0",{"$f":"+IF(女子個人戦!E24=女子個人戦!E25,女子個人戦!E24,女子個人戦!E24&\"・\"&女子個人戦!E25)","v":0},null,0,"0・0"]
[null,null,"",{"$f":"+女子個人戦!C25","v":0},{"$f":"+女子個人戦!D25","v":0}]

{"sheet":"卓球協会専用（男子S）","index":9,"n_rows":40,"n_cols":22,"rows_kept":40,"cut":false,"hidden":false,"merged":[[2,3,2,5],[2,6,2,8],[1,3,1,12]]}
[]
[null,null,null,"※注意！！このシートには何も入力しないでください"]
[null,null,null,"加盟団体名",null,null,{"$f":"+入力シート!D6","v":0}]
[]
[null,null,null,"男子シングルスＡ",null,"所属",null,"男子シングルスＢ",null,"所属",null,"男子シングルス40",null,"所属",null,"男子シングルス50",null,"所属",null,"男子シングルス60",null,"所属"]
[null,null,{"$f":"+COUNTIF($D$6:$D$21,D6)","v":16},{"$f":"+男子個人戦!H10","v":0},{"$f":"+男子個人戦!I10","v":0},{"$f":"+男子個人戦!J10","v":0},{"$f":"+COUNTIF($H$6:$H$21,H6)","v":16},{"$f":"+男子個人戦!M10","v":0},{"$f":"+男子個人戦!N10","v":0},{"$f":"+男子個人戦!O10","v":0},{"$f":"+COUNTIF($L$6:$L$10,L6)","v":5},{"$f":"+男女年代別シングルス!C9","v":0},{"$f":"+男女年代別シングルス!D9","v":0},{"$f":"+男女年代別シングルス!E9","v":0},{"$f":"+COUNTIF($P$6:$P$10,P6)","v":5},{"$f":"+男女年代別シングルス!C16","v":0},{"$f":"+男女年代別シングルス!D16","v":0},{"$f":"+男女年代別シングルス!E16","v":0},{"$f":"+COUNTIF($T$6:$T$10,T6)","v":5},{"$f":"+男女年代別シングルス!C23","v":0},{"$f":"+男女年代別シングルス!D23","v":0},{"$f":"+男女年代別シングルス!E23","v":0}]
[null,null,{"$f":"+COUNTIF($D$6:$D$21,D7)","v":16},{"$f":"+男子個人戦!H11","v":0},{"$f":"+男子個人戦!I11","v":0},{"$f":"+男子個人戦!J11","v":0},{"$f":"+COUNTIF($H$6:$H$21,H7)","v":16},{"$f":"+男子個人戦!M11","v":0},{"$f":"+男子個人戦!N11","v":0},{"$f":"+男子個人戦!O11","v":0},{"$f":"+COUNTIF($L$6:$L$10,L7)","v":5},{"$f":"+男女年代別シングルス!C10","v":0},{"$f":"+男女年代別シングルス!D10","v":0},{"$f":"+男女年代別シングルス!E10","v":0},{"$f":"+COUNTIF($P$6:$P$10,P7)","v":5},{"$f":"+男女年代別シングルス!C17","v":0},{"$f":"+男女年代別シングルス!D17","v":0},{"$f":"+男女年代別シングルス!E17","v":0},{"$f":"+COUNTIF($T$6:$T$10,T7)","v":5},{"$f":"+男女年代別シングルス!C24","v":0},{"$f":"+男女年代別シングルス!D24","v":0},{"$f":"+男女年代別シングルス!E24","v":0}]
[null,null,16,{"$f":"+男子個人戦!H12","v":0},{"$f":"+男子個人戦!I12","v":0},{"$f":"+男子個人戦!J12","v":0},16,{"$f":"+男子個人戦!M12","v":0},{"$f":"+男子個人戦!N12","v":0},{"$f":"+男子個人戦!O12","v":0},{"$f":"+COUNTIF($L$6:$L$10,L8)","v":5},{"$f":"+男女年代別シングルス!C11","v":0},{"$f":"+男女年代別シングルス!D11","v":0},{"$f":"+男女年代別シングルス!E11","v":0},{"$f":"+COUNTIF($P$6:$P$10,P8)","v":5},{"$f":"+男女年代別シングルス!C18","v":0},{"$f":"+男女年代別シングルス!D18","v":0},{"$f":"+男女年代別シングルス!E18","v":0},{"$f":"+COUNTIF($T$6:$T$10,T8)","v":5},{"$f":"+男女年代別シングルス!C25","v":0},{"$f":"+男女年代別シングルス!D25","v":0},{"$f":"+男女年代別シングルス!E25","v":0}]
[null,null,16,{"$f":"+男子個人戦!H13","v":0},{"$f":"+男子個人戦!I13","v":0},{"$f":"+男子個人戦!J13","v":0},{"$f":"+COUNTIF($H$6:$H$21,H9)","v":16},{"$f":"+男子個人戦!M13","v":0},{"$f":"+男子個人戦!N13","v":0},{"$f":"+男子個人戦!O13","v":0},{"$f":"+COUNTIF($L$6:$L$10,L9)","v":5},{"$f":"+男女年代別シングルス!C12","v":0},{"$f":"+男女年代別シングルス!D12","v":0},{"$f":"+男女年代別シングルス!E12","v":0},{"$f":"+COUNTIF($P$6:$P$10,P9)","v":5},{"$f":"+男女年代別シングルス!C19","v":0},{"$f":"+男女年代別シングルス!D19","v":0},{"$f":"+男女年代別シングルス!E19","v":0},{"$f":"+COUNTIF($T$6:$T$10,T9)","v":5},{"$f":"+男女年代別シングルス!C26","v":0},{"$f":"+男女年代別シングルス!D26","v":0},{"$f":"+男女年代別シングルス!E26","v":0}]
[null,null,16,{"$f":"+男子個人戦!H14","v":0},{"$f":"+男子個人戦!I14","v":0},{"$f":"+男子個人戦!J14","v":0},16,{"$f":"+男子個人戦!M14","v":0},{"$f":"+男子個人戦!N14","v":0},{"$f":"+男子個人戦!O14","v":0},{"$f":"+COUNTIF($L$6:$L$10,L10)","v":5},{"$f":"+男女年代別シングルス!C13","v":0},{"$f":"+男女年代別シングルス!D13","v":0},{"$f":"+男女年代別シングルス!E13","v":0},{"$f":"+COUNTIF($P$6:$P$10,P10)","v":5},{"$f":"+男女年代別シングルス!C20","v":0},{"$f":"+男女年代別シングルス!D20","v":0},{"$f":"+男女年代別シングルス!E20","v":0},{"$f":"+COUNTIF($T$6:$T$10,T10)","v":5},{"$f":"+男女年代別シングルス!C27","v":0},{"$f":"+男女年代別シングルス!D27","v":0},{"$f":"+男女年代別シングルス!E27","v":0}]
[null,null,16,{"$f":"+男子個人戦!H15","v":0},{"$f":"+男子個人戦!I15","v":0},{"$f":"+男子個人戦!J15","v":0},16,{"$f":"+男子個人戦!M15","v":0},{"$f":"+男子個人戦!N15","v":0},{"$f":"+男子個人戦!O15","v":0}]
[null,null,16,{"$f":"+男子個人戦!H16","v":0},{"$f":"+男子個人戦!I16","v":0},{"$f":"+男子個人戦!J16","v":0},16,{"$f":"+男子個人戦!M16","v":0},{"$f":"+男子個人戦!N16","v":0},{"$f":"+男子個人戦!O16","v":0}]
[null,null,16,{"$f":"+男子個人戦!H17","v":0},{"$f":"+男子個人戦!I17","v":0},{"$f":"+男子個人戦!J17","v":0},16,{"$f":"+男子個人戦!M17","v":0},{"$f":"+男子個人戦!N17","v":0},{"$f":"+男子個人戦!O17","v":0}]
[null,null,16,{"$f":"+男子個人戦!H18","v":0},{"$f":"+男子個人戦!I18","v":0},{"$f":"+男子個人戦!J18","v":0},16,{"$f":"+男子個人戦!M18","v":0},{"$f":"+男子個人戦!N18","v":0},{"$f":"+男子個人戦!O18","v":0}]
[null,null,16,{"$f":"+男子個人戦!H19","v":0},{"$f":"+男子個人戦!I19","v":0},{"$f":"+男子個人戦!J19","v":0},16,{"$f":"+男子個人戦!M19","v":0},{"$f":"+男子個人戦!N19","v":0},{"$f":"+男子個人戦!O19","v":0}]
[null,null,16,{"$f":"+男子個人戦!H20","v":0},{"$f":"+男子個人戦!I20","v":0},{"$f":"+男子個人戦!J20","v":0},16,{"$f":"+男子個人戦!M20","v":0},{"$f":"+男子個人戦!N20","v":0},{"$f":"+男子個人戦!O20","v":0}]
[null,null,16,{"$f":"+男子個人戦!H21","v":0},{"$f":"+男子個人戦!I21","v":0},{"$f":"+男子個人戦!J21","v":0},16,{"$f":"+男子個人戦!M21","v":0},{"$f":"+男子個人戦!N21","v":0},{"$f":"+男子個人戦!O21","v":0}]
[null,null,16,{"$f":"+男子個人戦!H22","v":0},{"$f":"+男子個人戦!I22","v":0},{"$f":"+男子個人戦!J22","v":0},16,{"$f":"+男子個人戦!M22","v":0},{"$f":"+男子個人戦!N22","v":0},{"$f":"+男子個人戦!O22","v":0}]
[null,null,16,{"$f":"+男子個人戦!H23","v":0},{"$f":"+男子個人戦!I23","v":0},{"$f":"+男子個人戦!J23","v":0},16,{"$f":"+男子個人戦!M23","v":0},{"$f":"+男子個人戦!N23","v":0},{"$f":"+男子個人戦!O23","v":0}]
[null,null,16,{"$f":"+男子個人戦!H24","v":0},{"$f":"+男子個人戦!I24","v":0},{"$f":"+男子個人戦!J24","v":0},16,{"$f":"+男子個人戦!M24","v":0},{"$f":"+男子個人戦!N24","v":0},{"$f":"+男子個人戦!O24","v":0}]
[null,null,16,{"$f":"+男子個人戦!H25","v":0},{"$f":"+男子個人戦!I25","v":0},{"$f":"+男子個人戦!J25","v":0},16,{"$f":"+男子個人戦!M25","v":0},{"$f":"+男子個人戦!N25","v":0},{"$f":"+男子個人戦!O25","v":0}]
[]
[]
[null,null,null,"男子シングルスＡ",null,"重複チェック",null,"男子シングルスＢ",null,"重複チェック",null,"男子シングルス40",null,"重複チェック",null,"男子シングルス50",null,"重複チェック",null,"男子シングルス60",null,"重複チェック"]
[null,null,1,0,0,{"$f":"IF(E25=0,\"\",+COUNTIF(E$25:E$40,E25))","v":""},null,0,0,{"$f":"IF(I25=0,\"\",+COUNTIF(I$25:I$40,I25))","v":""},null,0,0,{"$f":"IF(M25=0,\"\",+COUNTIF(M$25:M$40,M25))","v":""},null,0,0,{"$f":"IF(Q25=0,\"\",+COUNTIF(Q$25:Q$40,Q25))","v":""},null,0,0,{"$f":"IF(U25=0,\"\",+COUNTIF(U$25:U$40,U25))","v":""}]
[null,null,2,0,0,{"$f":"IF(E26=0,\"\",+COUNTIF(E$25:E$40,E26))","v":""},null,0,0,{"$f":"IF(I26=0,\"\",+COUNTIF(I$25:I$40,I26))","v":""},null,0,0,{"$f":"IF(M26=0,\"\",+COUNTIF(M$25:M$40,M26))","v":""},null,0,0,{"$f":"IF(Q26=0,\"\",+COUNTIF(Q$25:Q$40,Q26))","v":""},null,0,0,{"$f":"IF(U26=0,\"\",+COUNTIF(U$25:U$40,U26))","v":""}]
[null,null,3,0,0,{"$f":"IF(E27=0,\"\",+COUNTIF(E$25:E$40,E27))","v":""},null,0,0,{"$f":"IF(I27=0,\"\",+COUNTIF(I$25:I$40,I27))","v":""},null,0,0,{"$f":"IF(M27=0,\"\",+COUNTIF(M$25:M$40,M27))","v":""},null,0,0,{"$f":"IF(Q27=0,\"\",+COUNTIF(Q$25:Q$40,Q27))","v":""},null,0,0,{"$f":"IF(U27=0,\"\",+COUNTIF(U$25:U$40,U27))","v":""}]
[null,null,4,0,0,{"$f":"IF(E28=0,\"\",+COUNTIF(E$25:E$40,E28))","v":""},null,0,0,{"$f":"IF(I28=0,\"\",+COUNTIF(I$25:I$40,I28))","v":""},null,0,0,{"$f":"IF(M28=0,\"\",+COUNTIF(M$25:M$40,M28))","v":""},null,0,0,{"$f":"IF(Q28=0,\"\",+COUNTIF(Q$25:Q$40,Q28))","v":""},null,0,0,{"$f":"IF(U28=0,\"\",+COUNTIF(U$25:U$40,U28))","v":""}]
[null,null,5,0,0,{"$f":"IF(E29=0,\"\",+COUNTIF(E$25:E$40,E29))","v":""},null,0,0,{"$f":"IF(I29=0,\"\",+COUNTIF(I$25:I$40,I29))","v":""},null,0,0,{"$f":"IF(M29=0,\"\",+COUNTIF(M$25:M$40,M29))","v":""},null,0,0,{"$f":"IF(Q29=0,\"\",+COUNTIF(Q$25:Q$40,Q29))","v":""},null,0,0,{"$f":"IF(U29=0,\"\",+COUNTIF(U$25:U$40,U29))","v":""}]
[null,null,6,0,0,"",null,0,0,""]
[null,null,7,0,0,"",null,0,0,""]
[null,null,8,0,0,"",null,0,0,""]
[null,null,9,0,0,"",null,0,0,""]
[null,null,10,0,0,"",null,0,0,""]
[null,null,11,0,0,"",null,0,0,""]
[null,null,12,0,0,"",null,0,0,""]
[null,null,13,0,0,"",null,0,0,""]
[null,null,14,0,0,"",null,0,0,""]
[null,null,15,0,0,"",null,0,0,""]
[null,null,16,0,0,"",null,0,0,""]

{"sheet":"卓球協会専用（女子S）","index":10,"n_rows":40,"n_cols":22,"rows_kept":40,"cut":false,"hidden":false,"merged":[[1,3,1,12],[2,3,2,5],[2,6,2,8]]}
[]
[null,null,null,"※注意！！このシートには何も入力しないでください"]
[null,null,null,"加盟団体名",null,null,{"$f":"+入力シート!D6","v":0}]
[]
[null,null,null,"女子シングルスＡ",null,"所属",null,"女子シングルスＢ",null,"所属",null,"女子シングルス40",null,"所属",null,"女子シングルス50",null,"所属",null,"女子シングルス60",null,"所属"]
[null,null,{"$f":"+COUNTIF($D$6:$D$21,D6)","v":16},{"$f":"+女子個人戦!H10","v":0},{"$f":"+女子個人戦!I10","v":0},{"$f":"+女子個人戦!J10","v":0},{"$f":"+COUNTIF($H$6:$H$21,H6)","v":16},{"$f":"+女子個人戦!M10","v":0},{"$f":"+女子個人戦!N10","v":0},{"$f":"+女子個人戦!O10","v":0},{"$f":"+COUNTIF($L$6:$L$10,L6)","v":5},{"$f":"+男女年代別シングルス!I9","v":0},{"$f":"+男女年代別シングルス!J9","v":0},{"$f":"+男女年代別シングルス!K9","v":0},{"$f":"+COUNTIF($P$6:$P$10,P6)","v":5},{"$f":"+男女年代別シングルス!I16","v":0},{"$f":"+男女年代別シングルス!J16","v":0},{"$f":"+男女年代別シングルス!K16","v":0},{"$f":"+COUNTIF($T$6:$T$10,T6)","v":5},{"$f":"+男女年代別シングルス!I23","v":0},{"$f":"+男女年代別シングルス!J23","v":0},{"$f":"+男女年代別シングルス!K23","v":0}]
[null,null,{"$f":"+COUNTIF($D$6:$D$21,D7)","v":16},{"$f":"+女子個人戦!H11","v":0},{"$f":"+女子個人戦!I11","v":0},{"$f":"+女子個人戦!J11","v":0},16,{"$f":"+女子個人戦!M11","v":0},{"$f":"+女子個人戦!N11","v":0},{"$f":"+女子個人戦!O11","v":0},{"$f":"+COUNTIF($L$6:$L$10,L7)","v":5},{"$f":"+男女年代別シングルス!I10","v":0},{"$f":"+男女年代別シングルス!J10","v":0},{"$f":"+男女年代別シングルス!K10","v":0},{"$f":"+COUNTIF($P$6:$P$10,P7)","v":5},{"$f":"+男女年代別シングルス!I17","v":0},{"$f":"+男女年代別シングルス!J17","v":0},{"$f":"+男女年代別シングルス!K17","v":0},{"$f":"+COUNTIF($T$6:$T$10,T7)","v":5},{"$f":"+男女年代別シングルス!I24","v":0},{"$f":"+男女年代別シングルス!J24","v":0},{"$f":"+男女年代別シングルス!K24","v":0}]
[null,null,16,{"$f":"+女子個人戦!H12","v":0},{"$f":"+女子個人戦!I12","v":0},{"$f":"+女子個人戦!J12","v":0},16,{"$f":"+女子個人戦!M12","v":0},{"$f":"+女子個人戦!N12","v":0},{"$f":"+女子個人戦!O12","v":0},{"$f":"+COUNTIF($L$6:$L$10,L8)","v":5},{"$f":"+男女年代別シングルス!I11","v":0},{"$f":"+男女年代別シングルス!J11","v":0},{"$f":"+男女年代別シングルス!K11","v":0},{"$f":"+COUNTIF($P$6:$P$10,P8)","v":5},{"$f":"+男女年代別シングルス!I18","v":0},{"$f":"+男女年代別シングルス!J18","v":0},{"$f":"+男女年代別シングルス!K18","v":0},{"$f":"+COUNTIF($T$6:$T$10,T8)","v":5},{"$f":"+男女年代別シングルス!I25","v":0},{"$f":"+男女年代別シングルス!J25","v":0},{"$f":"+男女年代別シングルス!K25","v":0}]
[null,null,16,{"$f":"+女子個人戦!H13","v":0},{"$f":"+女子個人戦!I13","v":0},{"$f":"+女子個人戦!J13","v":0},16,{"$f":"+女子個人戦!M13","v":0},{"$f":"+女子個人戦!N13","v":0},{"$f":"+女子個人戦!O13","v":0},{"$f":"+COUNTIF($L$6:$L$10,L9)","v":5},{"$f":"+男女年代別シングルス!I12","v":0},{"$f":"+男女年代別シングルス!J12","v":0},{"$f":"+男女年代別シングルス!K12","v":0},{"$f":"+COUNTIF($P$6:$P$10,P9)","v":5},{"$f":"+男女年代別シングルス!I19","v":0},{"$f":"+男女年代別シングルス!J19","v":0},{"$f":"+男女年代別シングルス!K19","v":0},{"$f":"+COUNTIF($T$6:$T$10,T9)","v":5},{"$f":"+男女年代別シングルス!I26","v":0},{"$f":"+男女年代別シングルス!J26","v":0},{"$f":"+男女年代別シングルス!K26","v":0}]
[null,null,16,{"$f":"+女子個人戦!H14","v":0},{"$f":"+女子個人戦!I14","v":0},{"$f":"+女子個人戦!J14","v":0},16,{"$f":"+女子個人戦!M14","v":0},{"$f":"+女子個人戦!N14","v":0},{"$f":"+女子個人戦!O14","v":0},{"$f":"+COUNTIF($L$6:$L$10,L10)","v":5},{"$f":"+男女年代別シングルス!I13","v":0},{"$f":"+男女年代別シングルス!J13","v":0},{"$f":"+男女年代別シングルス!K13","v":0},{"$f":"+COUNTIF($P$6:$P$10,P10)","v":5},{"$f":"+男女年代別シングルス!I20","v":0},{"$f":"+男女年代別シングルス!J20","v":0},{"$f":"+男女年代別シングルス!K20","v":0},{"$f":"+COUNTIF($T$6:$T$10,T10)","v":5},{"$f":"+男女年代別シングルス!I27","v":0},{"$f":"+男女年代別シングルス!J27","v":0},{"$f":"+男女年代別シングルス!K27","v":0}]
[null,null,16,{"$f":"+女子個人戦!H15","v":0},{"$f":"+女子個人戦!I15","v":0},{"$f":"+女子個人戦!J15","v":0},16,{"$f":"+女子個人戦!M15","v":0},{"$f":"+女子個人戦!N15","v":0},{"$f":"+女子個人戦!O15","v":0}]
[null,null,16,{"$f":"+女子個人戦!H16","v":0},{"$f":"+女子個人戦!I16","v":0},{"$f":"+女子個人戦!J16","v":0},{"$f":"+COUNTIF($H$6:$H$21,H12)","v":16},{"$f":"+女子個人戦!M16","v":0},{"$f":"+女子個人戦!N16","v":0},{"$f":"+女子個人戦!O16","v":0}]
[null,null,16,{"$f":"+女子個人戦!H17","v":0},{"$f":"+女子個人戦!I17","v":0},{"$f":"+女子個人戦!J17","v":0},16,{"$f":"+女子個人戦!M17","v":0},{"$f":"+女子個人戦!N17","v":0},{"$f":"+女子個人戦!O17","v":0}]
[null,null,16,{"$f":"+女子個人戦!H18","v":0},{"$f":"+女子個人戦!I18","v":0},{"$f":"+女子個人戦!J18","v":0},16,{"$f":"+女子個人戦!M18","v":0},{"$f":"+女子個人戦!N18","v":0},{"$f":"+女子個人戦!O18","v":0}]
[null,null,16,{"$f":"+女子個人戦!H19","v":0},{"$f":"+女子個人戦!I19","v":0},{"$f":"+女子個人戦!J19","v":0},16,{"$f":"+女子個人戦!M19","v":0},{"$f":"+女子個人戦!N19","v":0},{"$f":"+女子個人戦!O19","v":0}]
[null,null,16,{"$f":"+女子個人戦!H20","v":0},{"$f":"+女子個人戦!I20","v":0},{"$f":"+女子個人戦!J20","v":0},16,{"$f":"+女子個人戦!M20","v":0},{"$f":"+女子個人戦!N20","v":0},{"$f":"+女子個人戦!O20","v":0}]
[null,null,16,{"$f":"+女子個人戦!H21","v":0},{"$f":"+女子個人戦!I21","v":0},{"$f":"+女子個人戦!J21","v":0},16,{"$f":"+女子個人戦!M21","v":0},{"$f":"+女子個人戦!N21","v":0},{"$f":"+女子個人戦!O21","v":0}]
[null,null,16,{"$f":"+女子個人戦!H22","v":0},{"$f":"+女子個人戦!I22","v":0},{"$f":"+女子個人戦!J22","v":0},16,{"$f":"+女子個人戦!M22","v":0},{"$f":"+女子個人戦!N22","v":0},{"$f":"+女子個人戦!O22","v":0}]
[null,null,16,{"$f":"+女子個人戦!H23","v":0},{"$f":"+女子個人戦!I23","v":0},{"$f":"+女子個人戦!J23","v":0},16,{"$f":"+女子個人戦!M23","v":0},{"$f":"+女子個人戦!N23","v":0},{"$f":"+女子個人戦!O23","v":0}]
[null,null,16,{"$f":"+女子個人戦!H24","v":0},{"$f":"+女子個人戦!I24","v":0},{"$f":"+女子個人戦!J24","v":0},16,{"$f":"+女子個人戦!M24","v":0},{"$f":"+女子個人戦!N24","v":0},{"$f":"+女子個人戦!O24","v":0}]
[null,null,16,{"$f":"+女子個人戦!H25","v":0},{"$f":"+女子個人戦!I25","v":0},{"$f":"+女子個人戦!J25","v":0},16,{"$f":"+女子個人戦!M25","v":0},{"$f":"+女子個人戦!N25","v":0},{"$f":"+女子個人戦!O25","v":0}]
[]
[]
[null,null,null,"女子シングルスＡ",null,"重複チェック",null,"女子シングルスＢ",null,"重複チェック",null,"女子シングルス40",null,"重複チェック",null,"女子シングルス50",null,"重複チェック",null,"女子シングルス60",null,"重複チェック"]
[null,null,1,0,0,{"$f":"IF(E25=0,\"\",+COUNTIF(E$25:E$40,E25))","v":""},1,0,0,{"$f":"IF(I25=0,\"\",+COUNTIF(I$25:I$40,I25))","v":""},1,0,0,{"$f":"IF(M25=0,\"\",+COUNTIF(M$25:M$40,M25))","v":""},1,0,0,{"$f":"IF(Q25=0,\"\",+COUNTIF(Q$25:Q$40,Q25))","v":""},1,0,0,{"$f":"IF(U25=0,\"\",+COUNTIF(U$25:U$40,U25))","v":""}]
[null,null,2,0,0,{"$f":"IF(E26=0,\"\",+COUNTIF(E$25:E$40,E26))","v":""},2,0,0,"",2,0,0,{"$f":"IF(M26=0,\"\",+COUNTIF(M$25:M$40,M26))","v":""},2,0,0,{"$f":"IF(Q26=0,\"\",+COUNTIF(Q$25:Q$40,Q26))","v":""},2,0,0,{"$f":"IF(U26=0,\"\",+COUNTIF(U$25:U$40,U26))","v":""}]
[null,null,3,0,0,"",3,0,0,"",3,0,0,{"$f":"IF(M27=0,\"\",+COUNTIF(M$25:M$40,M27))","v":""},3,0,0,{"$f":"IF(Q27=0,\"\",+COUNTIF(Q$25:Q$40,Q27))","v":""},3,0,0,{"$f":"IF(U27=0,\"\",+COUNTIF(U$25:U$40,U27))","v":""}]
[null,null,4,0,0,"",4,0,0,"",4,0,0,{"$f":"IF(M28=0,\"\",+COUNTIF(M$25:M$40,M28))","v":""},4,0,0,{"$f":"IF(Q28=0,\"\",+COUNTIF(Q$25:Q$40,Q28))","v":""},4,0,0,{"$f":"IF(U28=0,\"\",+COUNTIF(U$25:U$40,U28))","v":""}]
[null,null,5,0,0,"",5,0,0,"",5,0,0,{"$f":"IF(M29=0,\"\",+COUNTIF(M$25:M$40,M29))","v":""},5,0,0,{"$f":"IF(Q29=0,\"\",+COUNTIF(Q$25:Q$40,Q29))","v":""},5,0,0,{"$f":"IF(U29=0,\"\",+COUNTIF(U$25:U$40,U29))","v":""}]
[null,null,6,0,0,"",6,0,0,""]
[null,null,7,0,0,"",7,0,0,""]
[null,null,8,0,0,"",8,0,0,{"$f":"IF(I32=0,\"\",+COUNTIF(I$25:I$40,I32))","v":""}]
[null,null,9,0,0,"",9,0,0,""]
[null,null,10,0,0,"",10,0,0,""]
[null,null,11,0,0,"",11,0,0,""]
[null,null,12,0,0,"",12,0,0,""]
[null,null,13,0,0,"",13,0,0,""]
[null,null,14,0,0,"",14,0,0,""]
[null,null,15,0,0,"",15,0,0,""]
[null,null,16,0,0,"",16,0,0,""]

{"sheet":"卓球協会専用（参加料データ）","index":11,"n_rows":20,"n_cols":20,"rows_kept":20,"cut":false,"hidden":false,"merged":[[1,1,1,12]]}
[]
[null,"※注意！！このシートには何も入力しないでください"]
[]
[]
[]
[]
[null,"加盟団体名","MT一般","MT高大","MT小中","WT一般","WT高大","WT小中","MD","WD","MSA","MSB","M４０","M５０","M６０","WSA","WSB","W４０","W５０","W６０"]
[null,{"$f":"+入力シート!D6","v":0},{"$f":"+男子団体戦!E26","v":0},{"$f":"+男子団体戦!E27","v":0},{"$f":"+男子団体戦!E28","v":0},{"$f":"+女子団体戦!E26","v":0},{"$f":"+女子団体戦!E27","v":0},{"$f":"+女子団体戦!E28","v":0},{"$f":"+COUNTA(男子個人戦!C10,男子個人戦!C12,男子個人戦!C14,男子個人戦!C16,男子個人戦!C18,男子個人戦!C20,男子個人戦!C22,男子個人戦!C24)","v":0},{"$f":"+COUNTA(女子個人戦!C10,女子個人戦!C12,女子個人戦!C14,女子個人戦!C16,女子個人戦!C18,女子個人戦!C20,女子個人戦!C22,女子個人戦!C24)","v":0},{"$f":"+COUNTA(男子個人戦!H10:H25)","v":0},{"$f":"+COUNTA(男子個人戦!M10:M25)","v":0},{"$f":"+COUNTA(男女年代別シングルス!C9:C13)","v":0},{"$f":"+COUNTA(男女年代別シングルス!C16:C20)","v":0},{"$f":"+COUNTA(男女年代別シングルス!C23:C27)","v":0},{"$f":"+COUNTA(女子個人戦!H10:H25)","v":0},{"$f":"+COUNTA(女子個人戦!M10:M25)","v":0},{"$f":"+COUNTA(男女年代別シングルス!I9:I13)","v":0},{"$f":"+COUNTA(男女年代別シングルス!I16:I20)","v":0},{"$f":"+COUNTA(男女年代別シングルス!I23:I27)","v":0}]
[]
[]
[]
[null,"加盟団体名","MT一般","MT高大","MT小中","WT一般","WT高大","WT小中","MD","WD","MSA","MSB","M４０","M５０","M６０","WSA","WSB","W４０","W５０","W６０"]
[]
[]
[]
[]
[]
[]
[]
[null,"加盟団体名","MT一般","MT高大","MT小中","WT一般","WT高大","WT小中","MD","WD","MSA","MSB","M４０","M５０","M６０","WSA","WSB","W４０","W５０","W６０"]

{"sheet":"卓球協会専用（データ消去）","index":12,"n_rows":0,"n_cols":0,"rows_kept":0,"cut":false,"hidden":true,"merged":[]}